BEGIN:VCALENDAR
VERSION:2.0
METHOD:PUBLISH
PRODID:-//Accessible Web Design//My Calendar//http://www.mywpcal.com//v2.2.13//EN
BEGIN:VEVENT
UID:649-588
LOCATION:     
SUMMARY:Salaspils Ziemas kauss 2018 U9(2009), Vieta- Salaspils Sporta nams, Laiks sākums - 15.00-18.00
DTSTAMP:20190113T150000
ORGANIZER;CN=web admin:MAILTO:edgarsklibus@inbox.lv
DTSTART:20190113T150000
DTEND:20190113T180000
URL;VALUE=URI:https://fsgarkalne.lv
DESCRIPTION:Salaspils Ziemas kauss 2018 U9(2009), Vieta- Salaspils Sporta nams, Laiks sākums - 15.00-18.00
CATEGORIES:Turnīri
END:VEVENT
BEGIN:VEVENT
UID:650-589
LOCATION:     
SUMMARY:Salaspils Ziemas kauss 2018 U5(2013), Vieta- Salaspils Sporta nams, Laiks sākums - 9.00-12.00
DTSTAMP:20190120T090000
ORGANIZER;CN=web admin:MAILTO:edgarsklibus@inbox.lv
DTSTART:20190120T090000
DTEND:20190120T120000
URL;VALUE=URI:https://fsgarkalne.lv
DESCRIPTION:Salaspils Ziemas kauss 2018 U5(2013), Vieta- Salaspils Sporta nams, Laiks sākums - 9.00-12.00
CATEGORIES:Turnīri
END:VEVENT
BEGIN:VEVENT
UID:651-590
LOCATION:     
SUMMARY:Salaspils Ziemas kauss 2018 U6(2012), Vieta- Salaspils Sporta nams, Laiks sākums - 9.00-12.00
DTSTAMP:20190127T090000
ORGANIZER;CN=web admin:MAILTO:edgarsklibus@inbox.lv
DTSTART:20190127T090000
DTEND:20190127T120000
URL;VALUE=URI:https://fsgarkalne.lv
DESCRIPTION:Salaspils Ziemas kauss 2018 U6(2012), Vieta- Salaspils Sporta nams, Laiks sākums - 9.00-12.00
CATEGORIES:Turnīri
END:VEVENT
BEGIN:VEVENT
UID:652-591
LOCATION:     
SUMMARY:Salaspils Ziemas kauss 2018 U7(2011), Vieta- Salaspils Sporta nams, Laiks sākums - 12.00-15.00
DTSTAMP:20190127T120000
ORGANIZER;CN=web admin:MAILTO:edgarsklibus@inbox.lv
DTSTART:20190127T120000
DTEND:20190127T150000
URL;VALUE=URI:https://fsgarkalne.lv
DESCRIPTION:Salaspils Ziemas kauss 2018 U7(2011), Vieta- Salaspils Sporta nams, Laiks sākums - 12.00-15.00
CATEGORIES:Turnīri
END:VEVENT
BEGIN:VEVENT
UID:653-592
LOCATION:     
SUMMARY:Salaspils Ziemas kauss 2018 U8(2010), Vieta- Salaspils Sporta nams, Laiks sākums - 15.00-18.00
DTSTAMP:20190127T150000
ORGANIZER;CN=web admin:MAILTO:edgarsklibus@inbox.lv
DTSTART:20190127T150000
DTEND:20190127T180000
URL;VALUE=URI:https://fsgarkalne.lv
DESCRIPTION:Salaspils Ziemas kauss 2018 U8(2010), Vieta- Salaspils Sporta nams, Laiks sākums - 15.00-18.00
CATEGORIES:Turnīri
END:VEVENT
END:VCALENDAR