BEGIN:VCALENDAR
VERSION:2.0
METHOD:PUBLISH
PRODID:-//Accessible Web Design//My Calendar//http://www.mywpcal.com//v2.2.13//EN
BEGIN:VEVENT
UID:646-585
LOCATION:     
SUMMARY:Salaspils Ziemas kauss 2018 U7(2011), Vieta- Salaspils Sporta nams, Laiks sākums - 09.00-12.00
DTSTAMP:20181202T090000
ORGANIZER;CN=web admin:MAILTO:edgarsklibus@inbox.lv
DTSTART:20181202T090000
DTEND:20181202T120000
URL;VALUE=URI:https://fsgarkalne.lv
DESCRIPTION:Salaspils Ziemas kauss 2018 U7(2011), Vieta- Salaspils Sporta nams, Laiks sākums - 09.00-12.00
CATEGORIES:Turnīri
END:VEVENT
BEGIN:VEVENT
UID:647-586
LOCATION:     
SUMMARY:Salaspils Ziemas kauss 2018 U8(2010), Vieta- Salaspils Sporta nams, Laiks sākums - 12.00-15.00
DTSTAMP:20181202T120000
ORGANIZER;CN=web admin:MAILTO:edgarsklibus@inbox.lv
DTSTART:20181202T120000
DTEND:20181202T150000
URL;VALUE=URI:https://fsgarkalne.lv
DESCRIPTION:Salaspils Ziemas kauss 2018 U8(2010), Vieta- Salaspils Sporta nams, Laiks sākums - 12.00-15.00
CATEGORIES:Turnīri
END:VEVENT
BEGIN:VEVENT
UID:648-587
LOCATION:     
SUMMARY:Salaspils Ziemas kauss 2018 U9(2009), Vieta- Salaspils Sporta nams, Laiks sākums - 15.00-18.00
DTSTAMP:20181202T150000
ORGANIZER;CN=web admin:MAILTO:edgarsklibus@inbox.lv
DTSTART:20181202T150000
DTEND:20181202T180000
URL;VALUE=URI:https://fsgarkalne.lv
DESCRIPTION:Salaspils Ziemas kauss 2018 U9(2009), Vieta- Salaspils Sporta nams, Laiks sākums - 15.00-18.00
CATEGORIES:Turnīri
END:VEVENT
END:VCALENDAR