BEGIN:VCALENDAR
VERSION:2.0
METHOD:PUBLISH
PRODID:-//Accessible Web Design//My Calendar//http://www.mywpcal.com//v2.2.13//EN
BEGIN:VEVENT
UID:459-417
LOCATION:     
SUMMARY:LFF VIDZEMES REĢIONA JAUNATNES ČEMPIONĀTS FUTBOLĀ TELPĀS - 2006.dz.g. Sākums 9:30, Vieta- Allaži, Skolas iela 5. 2.kārta
DTSTAMP:20170204T093000
ORGANIZER;CN=web admin:MAILTO:edgarsklibus@inbox.lv
DTSTART:20170204T093000
DTEND:20170204T150000
URL;VALUE=URI:https://fsgarkalne.lv
DESCRIPTION:LFF VIDZEMES REĢIONA JAUNATNES ČEMPIONĀTS FUTBOLĀ TELPĀS - 2006.dz.g. Sākums 9:30, Vieta- Allaži, Skolas iela 5. 2.kārta
CATEGORIES:Spēles(LJFC)
END:VEVENT
BEGIN:VEVENT
UID:451-409
LOCATION:     
SUMMARY:LFF VIDZEMES REĢIONA JAUNATNES ČEMPIONĀTS FUTBOLĀ TELPĀS - 2004.dz.g. Sākums 9:30, Vieta- B FINĀLS ( Valmieras OC), C FINĀLS ( LIMBAŽI)
DTSTAMP:20170219T093000
ORGANIZER;CN=web admin:MAILTO:edgarsklibus@inbox.lv
DTSTART:20170219T093000
DTEND:20170219T150000
URL;VALUE=URI:https://fsgarkalne.lv
DESCRIPTION:LFF VIDZEMES REĢIONA JAUNATNES ČEMPIONĀTS FUTBOLĀ TELPĀS - 2004.dz.g. Sākums 9:30, Vieta- B FINĀLS ( Valmieras OC), C FINĀLS ( LIMBAŽI)
CATEGORIES:Spēles(LJFC)
END:VEVENT
BEGIN:VEVENT
UID:452-410
LOCATION:     
SUMMARY:LFF VIDZEMES REĢIONA JAUNATNES ČEMPIONĀTS FUTBOLĀ TELPĀS - 2005.dz.g. Sākums 9:30, Vieta- A FINĀLS ( Valmieras OC), B FINĀLS ( Priekuļi)
DTSTAMP:20170225T093000
ORGANIZER;CN=web admin:MAILTO:edgarsklibus@inbox.lv
DTSTART:20170225T093000
DTEND:20170225T150000
URL;VALUE=URI:https://fsgarkalne.lv
DESCRIPTION:LFF VIDZEMES REĢIONA JAUNATNES ČEMPIONĀTS FUTBOLĀ TELPĀS - 2005.dz.g. Sākums 9:30, Vieta- A FINĀLS ( Valmieras OC), B FINĀLS ( Priekuļi)
CATEGORIES:Spēles(LJFC)
END:VEVENT
BEGIN:VEVENT
UID:457-415
LOCATION:     
SUMMARY:LFF VIDZEMES REĢIONA JAUNATNES ČEMPIONĀTS FUTBOLĀ TELPĀS - 2007.dz.g. Sākums 9:30, Vieta- A FINĀLS ( Aizkraukle)
DTSTAMP:20170226T093000
ORGANIZER;CN=web admin:MAILTO:edgarsklibus@inbox.lv
DTSTART:20170226T093000
DTEND:20170226T150000
URL;VALUE=URI:https://fsgarkalne.lv
DESCRIPTION:LFF VIDZEMES REĢIONA JAUNATNES ČEMPIONĀTS FUTBOLĀ TELPĀS - 2007.dz.g. Sākums 9:30, Vieta- A FINĀLS ( Aizkraukle)
CATEGORIES:Spēles(LJFC)
END:VEVENT
END:VCALENDAR