BEGIN:VCALENDAR
VERSION:2.0
METHOD:PUBLISH
PRODID:-//Accessible Web Design//My Calendar//http://www.mywpcal.com//v2.2.13//EN
BEGIN:VEVENT
UID:658-597
LOCATION:     
SUMMARY:Rīgas kausu futbolā telpās. 2006.dz.g.(U-13) Vieta- Rīgas 15.vsk.( Visvalža iela 9). Laiks -tiks precizēts.
DTSTAMP:20190202T000000
ORGANIZER;CN=web admin:MAILTO:edgarsklibus@inbox.lv
DTSTART:20190202T000000
DTEND:20190202T000000
URL;VALUE=URI:https://fsgarkalne.lv
DESCRIPTION:Rīgas kausu futbolā telpās. 2006.dz.g.(U-13) Vieta- Rīgas 15.vsk.( Visvalža iela 9). Laiks -tiks precizēts.
CATEGORIES:Turnīri
END:VEVENT
BEGIN:VEVENT
UID:659-598
LOCATION:     
SUMMARY:Rīgas kausu futbolā telpās. 2007.dz.g.(U-12) Vieta- Rīgas 15.vsk.( Visvalža iela 9). Laiks -tiks precizēts.
DTSTAMP:20190216T000000
ORGANIZER;CN=web admin:MAILTO:edgarsklibus@inbox.lv
DTSTART:20190216T000000
DTEND:20190216T000000
URL;VALUE=URI:https://fsgarkalne.lv
DESCRIPTION:Rīgas kausu futbolā telpās. 2007.dz.g.(U-12) Vieta- Rīgas 15.vsk.( Visvalža iela 9). Laiks -tiks precizēts.
CATEGORIES:Turnīri
END:VEVENT
BEGIN:VEVENT
UID:654-593
LOCATION:     
SUMMARY:Salaspils Ziemas kauss 2018 U5(2013), Vieta- Salaspils Sporta nams, Laiks sākums - 9.00-12.00
DTSTAMP:20190217T090000
ORGANIZER;CN=web admin:MAILTO:edgarsklibus@inbox.lv
DTSTART:20190217T090000
DTEND:20190217T120000
URL;VALUE=URI:https://fsgarkalne.lv
DESCRIPTION:Salaspils Ziemas kauss 2018 U5(2013), Vieta- Salaspils Sporta nams, Laiks sākums - 9.00-12.00
CATEGORIES:Turnīri
END:VEVENT
BEGIN:VEVENT
UID:655-594
LOCATION:     
SUMMARY:Salaspils Ziemas kauss 2018 U5(2012), Vieta- Salaspils Sporta nams, Laiks sākums - 9.00-12.00
DTSTAMP:20190224T090000
ORGANIZER;CN=web admin:MAILTO:edgarsklibus@inbox.lv
DTSTART:20190224T090000
DTEND:20190224T120000
URL;VALUE=URI:https://fsgarkalne.lv
DESCRIPTION:Salaspils Ziemas kauss 2018 U5(2012), Vieta- Salaspils Sporta nams, Laiks sākums - 9.00-12.00
CATEGORIES:Turnīri
END:VEVENT
BEGIN:VEVENT
UID:656-595
LOCATION:     
SUMMARY:Salaspils Ziemas kauss 2018 U8(2011), Vieta- Salaspils Sporta nams, Laiks sākums - 12.00-15.00
DTSTAMP:20190224T120000
ORGANIZER;CN=web admin:MAILTO:edgarsklibus@inbox.lv
DTSTART:20190224T120000
DTEND:20190224T150000
URL;VALUE=URI:https://fsgarkalne.lv
DESCRIPTION:Salaspils Ziemas kauss 2018 U8(2011), Vieta- Salaspils Sporta nams, Laiks sākums - 12.00-15.00
CATEGORIES:Turnīri
END:VEVENT
BEGIN:VEVENT
UID:657-596
LOCATION:     
SUMMARY:Salaspils Ziemas kauss 2018 U8(2010), Vieta- Salaspils Sporta nams, Laiks sākums - 15.00-18.00
DTSTAMP:20190224T150000
ORGANIZER;CN=web admin:MAILTO:edgarsklibus@inbox.lv
DTSTART:20190224T150000
DTEND:20190224T180000
URL;VALUE=URI:https://fsgarkalne.lv
DESCRIPTION:Salaspils Ziemas kauss 2018 U8(2010), Vieta- Salaspils Sporta nams, Laiks sākums - 15.00-18.00
CATEGORIES:Turnīri
END:VEVENT
END:VCALENDAR