BEGIN:VCALENDAR
VERSION:2.0
METHOD:PUBLISH
PRODID:-//Accessible Web Design//My Calendar//http://www.mywpcal.com//v2.2.13//EN
BEGIN:VEVENT
UID:460-418
LOCATION:     
SUMMARY:LFF VIDZEMES REĢIONA JAUNATNES ČEMPIONĀTS FUTBOLĀ TELPĀS - 2006.dz.g. Sākums 9:30, Vieta- A FINĀLS ( Aizkraukle)
DTSTAMP:20170304T093000
ORGANIZER;CN=web admin:MAILTO:edgarsklibus@inbox.lv
DTSTART:20170304T093000
DTEND:20170304T150000
URL;VALUE=URI:https://fsgarkalne.lv
DESCRIPTION:LFF VIDZEMES REĢIONA JAUNATNES ČEMPIONĀTS FUTBOLĀ TELPĀS - 2006.dz.g. Sākums 9:30, Vieta- A FINĀLS ( Aizkraukle)
CATEGORIES:Spēles(LJFC)
END:VEVENT
BEGIN:VEVENT
UID:484-440
LOCATION:     
SUMMARY:LFF LATVIJAS JAUNATNES ČEMPIONĀTS FUTBOLĀ TELPĀS - 2007.dz.g. Vieta- Madonas Sporta centrs, Gaujas iela 13, Laiks-10:00
DTSTAMP:20170315T000000
ORGANIZER;CN=web admin:MAILTO:edgarsklibus@inbox.lv
DTSTART:20170315T000000
DTEND:20170315T000000
URL;VALUE=URI:https://fsgarkalne.lv
DESCRIPTION:LFF LATVIJAS JAUNATNES ČEMPIONĀTS FUTBOLĀ TELPĀS - 2007.dz.g. Vieta- Madonas Sporta centrs, Gaujas iela 13, Laiks-10:00
CATEGORIES:Spēles(LJFC)
END:VEVENT
BEGIN:VEVENT
UID:479-434
LOCATION:     
SUMMARY:Salaspils zālē , notiks turnīrs"SALASPILS KAUSS" (2010.g.) U-7
DTSTAMP:20170318T100000
ORGANIZER;CN=web admin:MAILTO:edgarsklibus@inbox.lv
DTSTART:20170318T100000
DTEND:20170318T140000
URL;VALUE=URI:https://fsgarkalne.lv
DESCRIPTION:Salaspils zālē , notiks turnīrs"SALASPILS KAUSS" (2010.g.) U-7
CATEGORIES:Turnīri
END:VEVENT
BEGIN:VEVENT
UID:478-435
LOCATION:     
SUMMARY:Salaspils zālē , notiks turnīrs"SALASPILS KAUSS" (2008.g.) U-9
DTSTAMP:20170318T100000
ORGANIZER;CN=web admin:MAILTO:edgarsklibus@inbox.lv
DTSTART:20170318T100000
DTEND:20170318T140000
URL;VALUE=URI:https://fsgarkalne.lv
DESCRIPTION:Salaspils zālē , notiks turnīrs"SALASPILS KAUSS" (2008.g.) U-9
CATEGORIES:Turnīri
END:VEVENT
BEGIN:VEVENT
UID:480-436
LOCATION:     
SUMMARY:Salaspils zālē , notiks turnīrs"SALASPILS KAUSS" (2009.g.) U-8
DTSTAMP:20170319T100000
ORGANIZER;CN=web admin:MAILTO:edgarsklibus@inbox.lv
DTSTART:20170319T100000
DTEND:20170319T140000
URL;VALUE=URI:https://fsgarkalne.lv
DESCRIPTION:Salaspils zālē , notiks turnīrs"SALASPILS KAUSS" (2009.g.) U-8
CATEGORIES:Turnīri
END:VEVENT
BEGIN:VEVENT
UID:481-437
LOCATION:     
SUMMARY:Tukumā 25.-26.martā (11 pret 11)  "TUKUMA CUP 2017" (2004.g.) U-13
DTSTAMP:20170325T000000
ORGANIZER;CN=web admin:MAILTO:edgarsklibus@inbox.lv
DTSTART:20170325T000000
DTEND:20170326T000000
URL;VALUE=URI:https://fsgarkalne.lv
DESCRIPTION:Tukumā 25.-26.martā (11 pret 11)  "TUKUMA CUP 2017" (2004.g.) U-13
CATEGORIES:Turnīri
END:VEVENT
END:VCALENDAR