BEGIN:VCALENDAR
VERSION:2.0
METHOD:PUBLISH
PRODID:-//Accessible Web Design//My Calendar//http://www.mywpcal.com//v2.2.13//EN
BEGIN:VEVENT
UID:660-599
LOCATION:     
SUMMARY:Rīgas kausu futbolā telpās. 2005.dz.g.(U-14) Vieta- Rīgas 15.vsk.( Visvalža iela 9). Laiks -tiks precizēts.
DTSTAMP:20190302T000000
ORGANIZER;CN=web admin:MAILTO:edgarsklibus@inbox.lv
DTSTART:20190302T000000
DTEND:20190302T000000
URL;VALUE=URI:https://fsgarkalne.lv
DESCRIPTION:Rīgas kausu futbolā telpās. 2005.dz.g.(U-14) Vieta- Rīgas 15.vsk.( Visvalža iela 9). Laiks -tiks precizēts.
CATEGORIES:Turnīri
END:VEVENT
END:VCALENDAR