BEGIN:VCALENDAR
VERSION:2.0
METHOD:PUBLISH
PRODID:-//Accessible Web Design//My Calendar//http://www.mywpcal.com//v2.2.13//EN
BEGIN:VEVENT
UID:522-438
LOCATION:     
SUMMARY:Daugavpilī 7.-9. aprīlī  "Daugavpils CUP 2017" (2005.g.) U-12
DTSTAMP:20170407T000000
ORGANIZER;CN=web admin:MAILTO:edgarsklibus@inbox.lv
DTSTART:20170407T000000
DTEND:20170409T000000
URL;VALUE=URI:https://fsgarkalne.lv
DESCRIPTION:Daugavpilī 7.-9. aprīlī  "Daugavpils CUP 2017" (2005.g.) U-12
CATEGORIES:Turnīri
END:VEVENT
BEGIN:VEVENT
UID:521-439
LOCATION:     
SUMMARY:Daugavpilī 7.-9. aprīlī  "Daugavpils CUP 2017" (2007.g.) U-10
DTSTAMP:20170407T000000
ORGANIZER;CN=web admin:MAILTO:edgarsklibus@inbox.lv
DTSTART:20170407T000000
DTEND:20170409T000000
URL;VALUE=URI:https://fsgarkalne.lv
DESCRIPTION:Daugavpilī 7.-9. aprīlī  "Daugavpils CUP 2017" (2007.g.) U-10
CATEGORIES:Turnīri
END:VEVENT
BEGIN:VEVENT
UID:524-441
LOCATION:     
SUMMARY:LFF LATVIJAS JAUNATNES ČEMPIONĀTS FUTBOLĀ - 2005.dz.g. (U-12) Vieta- Ogre, Laiks- 10:00
DTSTAMP:20170430T000000
ORGANIZER;CN=web admin:MAILTO:edgarsklibus@inbox.lv
DTSTART:20170430T000000
DTEND:20170430T000000
URL;VALUE=URI:https://fsgarkalne.lv
DESCRIPTION:LFF LATVIJAS JAUNATNES ČEMPIONĀTS FUTBOLĀ - 2005.dz.g. (U-12) Vieta- Ogre, Laiks- 10:00
CATEGORIES:Spēles(LJFC)
END:VEVENT
BEGIN:VEVENT
UID:503-459
LOCATION:     
SUMMARY:LFF LATVIJAS JAUNATNES ČEMPIONĀTS FUTBOLĀ - 2007.dz.g. A grupa (U-10) Vieta- Hanzas vsk., Laiks- 10:00, Spēle pret FS METTA
DTSTAMP:20170430T100000
ORGANIZER;CN=web admin:MAILTO:edgarsklibus@inbox.lv
DTSTART:20170430T100000
DTEND:20170430T110000
URL;VALUE=URI:https://fsgarkalne.lv
DESCRIPTION:LFF LATVIJAS JAUNATNES ČEMPIONĀTS FUTBOLĀ - 2007.dz.g. A grupa (U-10) Vieta- Hanzas vsk., Laiks- 10:00, Spēle pret FS METTA
CATEGORIES:Spēles(LJFC)
END:VEVENT
END:VCALENDAR