BEGIN:VCALENDAR
VERSION:2.0
METHOD:PUBLISH
PRODID:-//Accessible Web Design//My Calendar//http://www.mywpcal.com//v2.2.13//EN
BEGIN:VEVENT
UID:486-442
LOCATION:     
SUMMARY:LFF LATVIJAS JAUNATNES ČEMPIONĀTS FUTBOLĀ - 2006.dz.g. (U-11) Vieta- Ogre, Laiks- 10:00
DTSTAMP:20170504T000000
ORGANIZER;CN=web admin:MAILTO:edgarsklibus@inbox.lv
DTSTART:20170504T000000
DTEND:20170504T000000
URL;VALUE=URI:https://fsgarkalne.lv
DESCRIPTION:LFF LATVIJAS JAUNATNES ČEMPIONĀTS FUTBOLĀ - 2006.dz.g. (U-11) Vieta- Ogre, Laiks- 10:00
CATEGORIES:Spēles(LJFC)
END:VEVENT
BEGIN:VEVENT
UID:487-443
LOCATION:     
SUMMARY:LFF LATVIJAS JAUNATNES ČEMPIONĀTS FUTBOLĀ - 2005.dz.g. (U-12) Vieta- Ogre, Laiks- 10:00
DTSTAMP:20170506T000000
ORGANIZER;CN=web admin:MAILTO:edgarsklibus@inbox.lv
DTSTART:20170506T000000
DTEND:20170506T000000
URL;VALUE=URI:https://fsgarkalne.lv
DESCRIPTION:LFF LATVIJAS JAUNATNES ČEMPIONĀTS FUTBOLĀ - 2005.dz.g. (U-12) Vieta- Ogre, Laiks- 10:00
CATEGORIES:Spēles(LJFC)
END:VEVENT
BEGIN:VEVENT
UID:504-460
LOCATION:     
SUMMARY:LFF LATVIJAS JAUNATNES ČEMPIONĀTS FUTBOLĀ - 2007.dz.g. B grupa (U-10) Vieta- Juglas vsk., Laiks- 10:00, Spēle pret FK Farions
DTSTAMP:20170507T100000
ORGANIZER;CN=web admin:MAILTO:edgarsklibus@inbox.lv
DTSTART:20170507T100000
DTEND:20170507T110000
URL;VALUE=URI:https://fsgarkalne.lv
DESCRIPTION:LFF LATVIJAS JAUNATNES ČEMPIONĀTS FUTBOLĀ - 2007.dz.g. B grupa (U-10) Vieta- Juglas vsk., Laiks- 10:00, Spēle pret FK Farions
CATEGORIES:Spēles(LJFC)
END:VEVENT
BEGIN:VEVENT
UID:505-461
LOCATION:     
SUMMARY:LFF LATVIJAS JAUNATNES ČEMPIONĀTS FUTBOLĀ 11x11 - 2004.dz.g.  (U-13) Vieta- Smiltene., Laiks- 19:00 Spēle pret FC Vidzeme
DTSTAMP:20170509T190000
ORGANIZER;CN=web admin:MAILTO:edgarsklibus@inbox.lv
DTSTART:20170509T190000
DTEND:20170509T200000
URL;VALUE=URI:https://fsgarkalne.lv
DESCRIPTION:LFF LATVIJAS JAUNATNES ČEMPIONĀTS FUTBOLĀ 11x11 - 2004.dz.g.  (U-13) Vieta- Smiltene., Laiks- 19:00 Spēle pret FC Vidzeme
CATEGORIES:Spēles(LJFC)
END:VEVENT
BEGIN:VEVENT
UID:488-444
LOCATION:     
SUMMARY:LFF LATVIJAS JAUNATNES ČEMPIONĀTS FUTBOLĀ - 2006.dz.g. (U-11) Vieta- Ogre, Laiks- 13:00
DTSTAMP:20170513T000000
ORGANIZER;CN=web admin:MAILTO:edgarsklibus@inbox.lv
DTSTART:20170513T000000
DTEND:20170513T000000
URL;VALUE=URI:https://fsgarkalne.lv
DESCRIPTION:LFF LATVIJAS JAUNATNES ČEMPIONĀTS FUTBOLĀ - 2006.dz.g. (U-11) Vieta- Ogre, Laiks- 13:00
CATEGORIES:Spēles(LJFC)
END:VEVENT
BEGIN:VEVENT
UID:506-462
LOCATION:     
SUMMARY:LFF LATVIJAS JAUNATNES ČEMPIONĀTS FUTBOLĀ 11x11 - 2004.dz.g.  (U-13) Vieta- Ogre, Laiks- 18:00 Spēle pret Ogres NSS
DTSTAMP:20170513T150000
ORGANIZER;CN=web admin:MAILTO:edgarsklibus@inbox.lv
DTSTART:20170513T150000
DTEND:20170513T160000
URL;VALUE=URI:https://fsgarkalne.lv
DESCRIPTION:LFF LATVIJAS JAUNATNES ČEMPIONĀTS FUTBOLĀ 11x11 - 2004.dz.g.  (U-13) Vieta- Ogre, Laiks- 18:00 Spēle pret Ogres NSS
CATEGORIES:Spēles(LJFC)
END:VEVENT
BEGIN:VEVENT
UID:489-445
LOCATION:     
SUMMARY:LFF LATVIJAS JAUNATNES ČEMPIONĀTS FUTBOLĀ - 2008.dz.g. (U-9) Vieta- Ogre, Laiks- A grupa 10:00, B grupa 13:00
DTSTAMP:20170514T000000
ORGANIZER;CN=web admin:MAILTO:edgarsklibus@inbox.lv
DTSTART:20170514T000000
DTEND:20170514T000000
URL;VALUE=URI:https://fsgarkalne.lv
DESCRIPTION:LFF LATVIJAS JAUNATNES ČEMPIONĀTS FUTBOLĀ - 2008.dz.g. (U-9) Vieta- Ogre, Laiks- A grupa 10:00, B grupa 13:00
CATEGORIES:Spēles(LJFC)
END:VEVENT
BEGIN:VEVENT
UID:507-463
LOCATION:     
SUMMARY:LFF LATVIJAS JAUNATNES ČEMPIONĀTS FUTBOLĀ - 2007.dz.g. A grupa (U-10) Vieta- Juglas vsk., Laiks- 20:00 Spēle pret SK Babīte
DTSTAMP:20170519T200000
ORGANIZER;CN=web admin:MAILTO:edgarsklibus@inbox.lv
DTSTART:20170519T200000
DTEND:20170519T210000
URL;VALUE=URI:https://fsgarkalne.lv
DESCRIPTION:LFF LATVIJAS JAUNATNES ČEMPIONĀTS FUTBOLĀ - 2007.dz.g. A grupa (U-10) Vieta- Juglas vsk., Laiks- 20:00 Spēle pret SK Babīte
CATEGORIES:Spēles(LJFC)
END:VEVENT
BEGIN:VEVENT
UID:526-446
LOCATION:     
SUMMARY:LFF LATVIJAS JAUNATNES ČEMPIONĀTS FUTBOLĀ - 2010.dz.g. (U-7) Vieta- Ogre, Laiks- 10:00
DTSTAMP:20170520T000000
ORGANIZER;CN=web admin:MAILTO:edgarsklibus@inbox.lv
DTSTART:20170520T000000
DTEND:20170520T000000
URL;VALUE=URI:https://fsgarkalne.lv
DESCRIPTION:LFF LATVIJAS JAUNATNES ČEMPIONĀTS FUTBOLĀ - 2010.dz.g. (U-7) Vieta- Ogre, Laiks- 10:00
CATEGORIES:Spēles(LJFC)
END:VEVENT
BEGIN:VEVENT
UID:527-478
LOCATION:     
SUMMARY:LFF LATVIJAS JAUNATNES ČEMPIONĀTS FUTBOLĀ - 2007.dz.g. B grupa (U-10) Vieta- Ostvalda vsk ., Laiks- 11.00  Spēle pret FK DAUGAVA
DTSTAMP:20170521T000000
ORGANIZER;CN=web admin:MAILTO:edgarsklibus@inbox.lv
DTSTART:20170521T000000
DTEND:20170521T000000
URL;VALUE=URI:https://fsgarkalne.lv
DESCRIPTION:LFF LATVIJAS JAUNATNES ČEMPIONĀTS FUTBOLĀ - 2007.dz.g. B grupa (U-10) Vieta- Ostvalda vsk ., Laiks- 11.00  Spēle pret FK DAUGAVA
CATEGORIES:Spēles(LJFC)
END:VEVENT
BEGIN:VEVENT
UID:523-477
LOCATION:     
SUMMARY:LFF LATVIJAS JAUNATNES ČEMPIONĀTS FUTBOLĀ  11x11 - 2004.dz.g. (U-13) Vieta- Salacgrīva, Laiks- 11:00
DTSTAMP:20170521T110000
ORGANIZER;CN=web admin:MAILTO:edgarsklibus@inbox.lv
DTSTART:20170521T110000
DTEND:20170521T120000
URL;VALUE=URI:https://fsgarkalne.lv
DESCRIPTION:LFF LATVIJAS JAUNATNES ČEMPIONĀTS FUTBOLĀ  11x11 - 2004.dz.g. (U-13) Vieta- Salacgrīva, Laiks- 11:00
CATEGORIES:Spēles(LJFC)
END:VEVENT
BEGIN:VEVENT
UID:529-479
LOCATION:     
SUMMARY:LFF LATVIJAS JAUNATNES ČEMPIONĀTS FUTBOLĀ - 2007.dz.g. A grupa (U-10) Vieta- Juglas vsk ., Laiks- 18.30  Spēle pret FK NIKARS VANAGI
DTSTAMP:20170522T000000
ORGANIZER;CN=web admin:MAILTO:edgarsklibus@inbox.lv
DTSTART:20170522T000000
DTEND:20170522T000000
URL;VALUE=URI:https://fsgarkalne.lv
DESCRIPTION:LFF LATVIJAS JAUNATNES ČEMPIONĀTS FUTBOLĀ - 2007.dz.g. A grupa (U-10) Vieta- Juglas vsk ., Laiks- 18.30  Spēle pret FK NIKARS VANAGI
CATEGORIES:Spēles(LJFC)
END:VEVENT
BEGIN:VEVENT
UID:530-480
LOCATION:     
SUMMARY:LFF LATVIJAS JAUNATNES ČEMPIONĀTS FUTBOLĀ - 2007.dz.g. A grupa (U-10) Vieta- Juglas vsk ., Laiks- 20.00  Spēle pret SK SUPER NOVA
DTSTAMP:20170526T000000
ORGANIZER;CN=web admin:MAILTO:edgarsklibus@inbox.lv
DTSTART:20170526T000000
DTEND:20170526T000000
URL;VALUE=URI:https://fsgarkalne.lv
DESCRIPTION:LFF LATVIJAS JAUNATNES ČEMPIONĀTS FUTBOLĀ - 2007.dz.g. A grupa (U-10) Vieta- Juglas vsk ., Laiks- 20.00  Spēle pret SK SUPER NOVA
CATEGORIES:Spēles(LJFC)
END:VEVENT
BEGIN:VEVENT
UID:491-447
LOCATION:     
SUMMARY:LFF LATVIJAS JAUNATNES ČEMPIONĀTS FUTBOLĀ - 2005.dz.g. (U-12) Vieta- Ogre, Laiks- 10:00
DTSTAMP:20170527T000000
ORGANIZER;CN=web admin:MAILTO:edgarsklibus@inbox.lv
DTSTART:20170527T000000
DTEND:20170527T000000
URL;VALUE=URI:https://fsgarkalne.lv
DESCRIPTION:LFF LATVIJAS JAUNATNES ČEMPIONĀTS FUTBOLĀ - 2005.dz.g. (U-12) Vieta- Ogre, Laiks- 10:00
CATEGORIES:Spēles(LJFC)
END:VEVENT
BEGIN:VEVENT
UID:531-481
LOCATION:     
SUMMARY:LFF LATVIJAS JAUNATNES ČEMPIONĀTS FUTBOLĀ - 2007.dz.g. A grupa (U-10) Vieta- Mežaparks, Laiks- 13.00  Spēle pret JFC Skonto
DTSTAMP:20170527T000000
ORGANIZER;CN=web admin:MAILTO:edgarsklibus@inbox.lv
DTSTART:20170527T000000
DTEND:20170527T000000
URL;VALUE=URI:https://fsgarkalne.lv
DESCRIPTION:LFF LATVIJAS JAUNATNES ČEMPIONĀTS FUTBOLĀ - 2007.dz.g. A grupa (U-10) Vieta- Mežaparks, Laiks- 13.00  Spēle pret JFC Skonto
CATEGORIES:Spēles(LJFC)
END:VEVENT
BEGIN:VEVENT
UID:536-485
LOCATION:     
SUMMARY:Gaujas svētku gājiens FS Ādažu-Rakari 11:00 satikšanās 11:30 Gājiens
DTSTAMP:20170527T110000
ORGANIZER;CN=web admin:MAILTO:edgarsklibus@inbox.lv
DTSTART:20170527T110000
DTEND:20170527T120000
URL;VALUE=URI:https://fsgarkalne.lv
DESCRIPTION:Gaujas svētku gājiens FS Ādažu-Rakari 11:00 satikšanās 11:30 Gājiens
CATEGORIES:Pasākumi
END:VEVENT
BEGIN:VEVENT
UID:492-448
LOCATION:     
SUMMARY:LFF LATVIJAS JAUNATNES ČEMPIONĀTS FUTBOLĀ - 2009.dz.g. (U-8) Vieta- Carnikava, Laiks- 10:00
DTSTAMP:20170528T000000
ORGANIZER;CN=web admin:MAILTO:edgarsklibus@inbox.lv
DTSTART:20170528T000000
DTEND:20170528T000000
URL;VALUE=URI:https://fsgarkalne.lv
DESCRIPTION:LFF LATVIJAS JAUNATNES ČEMPIONĀTS FUTBOLĀ - 2009.dz.g. (U-8) Vieta- Carnikava, Laiks- 10:00
CATEGORIES:Spēles(LJFC)
END:VEVENT
END:VCALENDAR