BEGIN:VCALENDAR
VERSION:2.0
METHOD:PUBLISH
PRODID:-//Accessible Web Design//My Calendar//http://www.mywpcal.com//v2.2.13//EN
BEGIN:VEVENT
UID:674-613
LOCATION:     
SUMMARY:Vidzemes zonas čempionāts 2019 U-8(2011.dz.g.) Vieta - Ogres ģimnāzijas stadionā,Meža prospektā 14
DTSTAMP:20190518T090000
ORGANIZER;CN=web admin:MAILTO:edgarsklibus@inbox.lv
DTSTART:20190518T090000
DTEND:20190518T130000
URL;VALUE=URI:https://fsgarkalne.lv
DESCRIPTION:Vidzemes zonas čempionāts 2019 U-8(2011.dz.g.) Vieta - Ogres ģimnāzijas stadionā,Meža prospektā 14
CATEGORIES:Spēles(LJFC)
END:VEVENT
BEGIN:VEVENT
UID:675-614
LOCATION:     
SUMMARY:Vidzemes zonas čempionāts 2019 U-10(2009.dz.g.) Vieta -  Smiltenē,sporta kompleksā "Teperis"
DTSTAMP:20190519T090000
ORGANIZER;CN=web admin:MAILTO:edgarsklibus@inbox.lv
DTSTART:20190519T090000
DTEND:20190519T140000
URL;VALUE=URI:https://fsgarkalne.lv
DESCRIPTION:Vidzemes zonas čempionāts 2019 U-10(2009.dz.g.) Vieta -  Smiltenē,sporta kompleksā "Teperis"
CATEGORIES:Spēles(LJFC)
END:VEVENT
BEGIN:VEVENT
UID:676-615
LOCATION:     
SUMMARY:LJFČ U-13 Upesciemā, pret SK Krimulda/Valor. Spēles sākums - 17:30. Jābūt 16:15
DTSTAMP:20190521T173000
ORGANIZER;CN=web admin:MAILTO:edgarsklibus@inbox.lv
DTSTART:20190521T173000
DTEND:20190521T183000
URL;VALUE=URI:https://fsgarkalne.lv
DESCRIPTION:LJFČ U-13 Upesciemā, pret SK Krimulda/Valor. Spēles sākums - 17:30. Jābūt 16:15
CATEGORIES:Spēles(LJFC)
END:VEVENT
BEGIN:VEVENT
UID:677-616
LOCATION:     
SUMMARY:LJFČ U-14 Zveijniekciems, pret SK Super Nova/ Saulkrasti. Spēles sākums - 13:00. Jābūt 12:00
DTSTAMP:20190525T130000
ORGANIZER;CN=web admin:MAILTO:edgarsklibus@inbox.lv
DTSTART:20190525T130000
DTEND:20190525T143000
URL;VALUE=URI:https://fsgarkalne.lv
DESCRIPTION:LJFČ U-14 Zveijniekciems, pret SK Super Nova/ Saulkrasti. Spēles sākums - 13:00. Jābūt 12:00
CATEGORIES:Spēles(LJFC)
END:VEVENT
BEGIN:VEVENT
UID:678-617
LOCATION:     
SUMMARY:LJFČ U-14 Carnikava, pret LeevonĀdaži/Carnikava. Spēles sākums - 17:00. Jābūt 16:00
DTSTAMP:20190530T170000
ORGANIZER;CN=web admin:MAILTO:edgarsklibus@inbox.lv
DTSTART:20190530T170000
DTEND:20190530T183000
URL;VALUE=URI:https://fsgarkalne.lv
DESCRIPTION:LJFČ U-14 Carnikava, pret LeevonĀdaži/Carnikava. Spēles sākums - 17:00. Jābūt 16:00
CATEGORIES:Spēles(LJFC)
END:VEVENT
END:VCALENDAR