BEGIN:VCALENDAR
VERSION:2.0
METHOD:PUBLISH
PRODID:-//Accessible Web Design//My Calendar//http://www.mywpcal.com//v2.2.13//EN
BEGIN:VEVENT
UID:493-449
LOCATION:     
SUMMARY:LFF LATVIJAS JAUNATNES ČEMPIONĀTS FUTBOLĀ - 2006.dz.g. (U-11) Vieta- Ogre, Laiks- 10:00
DTSTAMP:20170601T000000
ORGANIZER;CN=web admin:MAILTO:edgarsklibus@inbox.lv
DTSTART:20170601T000000
DTEND:20170601T000000
URL;VALUE=URI:https://fsgarkalne.lv
DESCRIPTION:LFF LATVIJAS JAUNATNES ČEMPIONĀTS FUTBOLĀ - 2006.dz.g. (U-11) Vieta- Ogre, Laiks- 10:00
CATEGORIES:Spēles(LJFC)
END:VEVENT
BEGIN:VEVENT
UID:508-464
LOCATION:     
SUMMARY:LFF LATVIJAS JAUNATNES ČEMPIONĀTS FUTBOLĀ - 2007.dz.g. A grupa (U-10) Vieta- Juglas vsk., Laiks- 20:00 Spēle pret RFS-2
DTSTAMP:20170602T200000
ORGANIZER;CN=web admin:MAILTO:edgarsklibus@inbox.lv
DTSTART:20170602T200000
DTEND:20170602T210000
URL;VALUE=URI:https://fsgarkalne.lv
DESCRIPTION:LFF LATVIJAS JAUNATNES ČEMPIONĀTS FUTBOLĀ - 2007.dz.g. A grupa (U-10) Vieta- Juglas vsk., Laiks- 20:00 Spēle pret RFS-2
CATEGORIES:Spēles(LJFC)
END:VEVENT
BEGIN:VEVENT
UID:537-486
LOCATION:     
SUMMARY:LFF LATVIJAS JAUNATNES ČEMPIONĀTS FUTBOLĀ - 2007.dz.g. B grupa (U-10) Vieta- Jūrnieka st., Laiks- 12:00, Spēle pret Babīte/ Dinamo Rīga -3
DTSTAMP:20170603T120000
ORGANIZER;CN=web admin:MAILTO:edgarsklibus@inbox.lv
DTSTART:20170603T120000
DTEND:20170603T130000
URL;VALUE=URI:https://fsgarkalne.lv
DESCRIPTION:LFF LATVIJAS JAUNATNES ČEMPIONĀTS FUTBOLĀ - 2007.dz.g. B grupa (U-10) Vieta- Jūrnieka st., Laiks- 12:00, Spēle pret Babīte/ Dinamo Rīga -3
CATEGORIES:Spēles(LJFC)
END:VEVENT
BEGIN:VEVENT
UID:538-487
LOCATION:     
SUMMARY:LFF LATVIJAS JAUNATNES ČEMPIONĀTS FUTBOLĀ - 2007.dz.g. B grupa (U-10) Vieta- Jūrnieka st., Laiks- 12:00, Spēle pret Babīte/ Dinamo Rīga -3
DTSTAMP:20170603T120000
ORGANIZER;CN=web admin:MAILTO:edgarsklibus@inbox.lv
DTSTART:20170603T120000
DTEND:20170603T130000
URL;VALUE=URI:https://fsgarkalne.lv
DESCRIPTION:LFF LATVIJAS JAUNATNES ČEMPIONĀTS FUTBOLĀ - 2007.dz.g. B grupa (U-10) Vieta- Jūrnieka st., Laiks- 12:00, Spēle pret Babīte/ Dinamo Rīga -3
CATEGORIES:Spēles(LJFC)
END:VEVENT
BEGIN:VEVENT
UID:539-488
LOCATION:     
SUMMARY:LFF LATVIJAS JAUNATNES ČEMPIONĀTS FUTBOLĀ - 2007.dz.g. B grupa (U-10) Vieta- Jūrnieka st., Laiks- 13:00, Spēle pret FK Jūrnieks/ Beitars
DTSTAMP:20170603T130000
ORGANIZER;CN=web admin:MAILTO:edgarsklibus@inbox.lv
DTSTART:20170603T130000
DTEND:20170603T140000
URL;VALUE=URI:https://fsgarkalne.lv
DESCRIPTION:LFF LATVIJAS JAUNATNES ČEMPIONĀTS FUTBOLĀ - 2007.dz.g. B grupa (U-10) Vieta- Jūrnieka st., Laiks- 13:00, Spēle pret FK Jūrnieks/ Beitars
CATEGORIES:Spēles(LJFC)
END:VEVENT
BEGIN:VEVENT
UID:494-450
LOCATION:     
SUMMARY:LFF LATVIJAS JAUNATNES ČEMPIONĀTS FUTBOLĀ - 2010.dz.g. (U-7) Vieta- Ogre, Laiks- 10:00
DTSTAMP:20170604T000000
ORGANIZER;CN=web admin:MAILTO:edgarsklibus@inbox.lv
DTSTART:20170604T000000
DTEND:20170604T000000
URL;VALUE=URI:https://fsgarkalne.lv
DESCRIPTION:LFF LATVIJAS JAUNATNES ČEMPIONĀTS FUTBOLĀ - 2010.dz.g. (U-7) Vieta- Ogre, Laiks- 10:00
CATEGORIES:Spēles(LJFC)
END:VEVENT
BEGIN:VEVENT
UID:532-482
LOCATION:     
SUMMARY:LFF LATVIJAS JAUNATNES ČEMPIONĀTS FUTBOLĀ 11x11 - 2004.dz.g. (U-13) Vieta- Upesciems, Laiks- 14:00, Spēle pret Limbaži
DTSTAMP:20170605T000000
ORGANIZER;CN=web admin:MAILTO:edgarsklibus@inbox.lv
DTSTART:20170605T000000
DTEND:20170605T000000
URL;VALUE=URI:https://fsgarkalne.lv
DESCRIPTION:LFF LATVIJAS JAUNATNES ČEMPIONĀTS FUTBOLĀ 11x11 - 2004.dz.g. (U-13) Vieta- Upesciems, Laiks- 14:00, Spēle pret Limbaži
CATEGORIES:Spēles(LJFC)
END:VEVENT
BEGIN:VEVENT
UID:533-483
LOCATION:     
SUMMARY:LFF LATVIJAS JAUNATNES ČEMPIONĀTS FUTBOLĀ - 2006.dz.g. (U-11) Vieta- Ogre, Laiks- 10:00
DTSTAMP:20170607T000000
ORGANIZER;CN=web admin:MAILTO:edgarsklibus@inbox.lv
DTSTART:20170607T000000
DTEND:20170607T000000
URL;VALUE=URI:https://fsgarkalne.lv
DESCRIPTION:LFF LATVIJAS JAUNATNES ČEMPIONĀTS FUTBOLĀ - 2006.dz.g. (U-11) Vieta- Ogre, Laiks- 10:00
CATEGORIES:Spēles(LJFC)
END:VEVENT
BEGIN:VEVENT
UID:496-452
LOCATION:     
SUMMARY:LFF LATVIJAS JAUNATNES ČEMPIONĀTS FUTBOLĀ - 2005.dz.g. (U-12) Vieta- Ogre, Laiks- 10:00
DTSTAMP:20170608T000000
ORGANIZER;CN=web admin:MAILTO:edgarsklibus@inbox.lv
DTSTART:20170608T000000
DTEND:20170608T000000
URL;VALUE=URI:https://fsgarkalne.lv
DESCRIPTION:LFF LATVIJAS JAUNATNES ČEMPIONĀTS FUTBOLĀ - 2005.dz.g. (U-12) Vieta- Ogre, Laiks- 10:00
CATEGORIES:Spēles(LJFC)
END:VEVENT
BEGIN:VEVENT
UID:509-465
LOCATION:     
SUMMARY:LFF LATVIJAS JAUNATNES ČEMPIONĀTS FUTBOLĀ 11x11 - 2004.dz.g. (U-13) Vieta- Staicele, Laiks- 15:00 Spēle pret Alojas NSS
DTSTAMP:20170609T150000
ORGANIZER;CN=web admin:MAILTO:edgarsklibus@inbox.lv
DTSTART:20170609T150000
DTEND:20170609T160000
URL;VALUE=URI:https://fsgarkalne.lv
DESCRIPTION:LFF LATVIJAS JAUNATNES ČEMPIONĀTS FUTBOLĀ 11x11 - 2004.dz.g. (U-13) Vieta- Staicele, Laiks- 15:00 Spēle pret Alojas NSS
CATEGORIES:Spēles(LJFC)
END:VEVENT
BEGIN:VEVENT
UID:497-453
LOCATION:     
SUMMARY:LFF LATVIJAS JAUNATNES ČEMPIONĀTS FUTBOLĀ - 2008.dz.g. (U-9) Vieta- Ogre, Laiks- 10:00
DTSTAMP:20170611T000000
ORGANIZER;CN=web admin:MAILTO:edgarsklibus@inbox.lv
DTSTART:20170611T000000
DTEND:20170611T000000
URL;VALUE=URI:https://fsgarkalne.lv
DESCRIPTION:LFF LATVIJAS JAUNATNES ČEMPIONĀTS FUTBOLĀ - 2008.dz.g. (U-9) Vieta- Ogre, Laiks- 10:00
CATEGORIES:Spēles(LJFC)
END:VEVENT
BEGIN:VEVENT
UID:510-466
LOCATION:     
SUMMARY:LFF LATVIJAS JAUNATNES ČEMPIONĀTS FUTBOLĀ 11x11 - 2004.dz.g. (U-13) Vieta- Upesciems, Laiks- 11:00, Spēle pret FC Vidzeme
DTSTAMP:20170612T110000
ORGANIZER;CN=web admin:MAILTO:edgarsklibus@inbox.lv
DTSTART:20170612T110000
DTEND:20170612T120000
URL;VALUE=URI:https://fsgarkalne.lv
DESCRIPTION:LFF LATVIJAS JAUNATNES ČEMPIONĀTS FUTBOLĀ 11x11 - 2004.dz.g. (U-13) Vieta- Upesciems, Laiks- 11:00, Spēle pret FC Vidzeme
CATEGORIES:Spēles(LJFC)
END:VEVENT
BEGIN:VEVENT
UID:540-489
LOCATION:     
SUMMARY:LFF LATVIJAS JAUNATNES ČEMPIONĀTS FUTBOLĀ - 2007.dz.g. A grupa (U-10) Vieta- Juglas vsk., Laiks- 18:30, Spēle pret LBF JFK Daugava
DTSTAMP:20170612T183000
ORGANIZER;CN=web admin:MAILTO:edgarsklibus@inbox.lv
DTSTART:20170612T183000
DTEND:20170612T193000
URL;VALUE=URI:https://fsgarkalne.lv
DESCRIPTION:LFF LATVIJAS JAUNATNES ČEMPIONĀTS FUTBOLĀ - 2007.dz.g. A grupa (U-10) Vieta- Juglas vsk., Laiks- 18:30, Spēle pret LBF JFK Daugava
CATEGORIES:Spēles(LJFC)
END:VEVENT
BEGIN:VEVENT
UID:542-491
LOCATION:     
SUMMARY:LFF LATVIJAS JAUNATNES ČEMPIONĀTS FUTBOLĀ - 2007.dz.g. B grupa (U-10) Vieta- Juglas vsk., Laiks- 19:30, Spēle pret JDFS Alberts -3
DTSTAMP:20170612T193000
ORGANIZER;CN=web admin:MAILTO:edgarsklibus@inbox.lv
DTSTART:20170612T193000
DTEND:20170612T203000
URL;VALUE=URI:https://fsgarkalne.lv
DESCRIPTION:LFF LATVIJAS JAUNATNES ČEMPIONĀTS FUTBOLĀ - 2007.dz.g. B grupa (U-10) Vieta- Juglas vsk., Laiks- 19:30, Spēle pret JDFS Alberts -3
CATEGORIES:Spēles(LJFC)
END:VEVENT
BEGIN:VEVENT
UID:498-454
LOCATION:     
SUMMARY:LFF LATVIJAS JAUNATNES ČEMPIONĀTS FUTBOLĀ - 2006.dz.g. (U-11) Vieta- Ogre, Laiks- 10:00
DTSTAMP:20170613T000000
ORGANIZER;CN=web admin:MAILTO:edgarsklibus@inbox.lv
DTSTART:20170613T000000
DTEND:20170613T000000
URL;VALUE=URI:https://fsgarkalne.lv
DESCRIPTION:LFF LATVIJAS JAUNATNES ČEMPIONĀTS FUTBOLĀ - 2006.dz.g. (U-11) Vieta- Ogre, Laiks- 10:00
CATEGORIES:Spēles(LJFC)
END:VEVENT
BEGIN:VEVENT
UID:534-484
LOCATION:     
SUMMARY:LFF LATVIJAS JAUNATNES ČEMPIONĀTS FUTBOLĀ 11x11 - 2004.dz.g. (U-13) Vieta- Upesciems, Laiks- 11:00, Spēle pret FK Ādaži
DTSTAMP:20170615T000000
ORGANIZER;CN=web admin:MAILTO:edgarsklibus@inbox.lv
DTSTART:20170615T000000
DTEND:20170615T000000
URL;VALUE=URI:https://fsgarkalne.lv
DESCRIPTION:LFF LATVIJAS JAUNATNES ČEMPIONĀTS FUTBOLĀ 11x11 - 2004.dz.g. (U-13) Vieta- Upesciems, Laiks- 11:00, Spēle pret FK Ādaži
CATEGORIES:Spēles(LJFC)
END:VEVENT
BEGIN:VEVENT
UID:535-455
LOCATION:     
SUMMARY:LFF LATVIJAS JAUNATNES ČEMPIONĀTS FUTBOLĀ - 2009.dz.g. (U-8) Vieta- Ogre, Laiks- 10:00
DTSTAMP:20170618T000000
ORGANIZER;CN=web admin:MAILTO:edgarsklibus@inbox.lv
DTSTART:20170618T000000
DTEND:20170618T000000
URL;VALUE=URI:https://fsgarkalne.lv
DESCRIPTION:LFF LATVIJAS JAUNATNES ČEMPIONĀTS FUTBOLĀ - 2009.dz.g. (U-8) Vieta- Ogre, Laiks- 10:00
CATEGORIES:Spēles(LJFC)
END:VEVENT
BEGIN:VEVENT
UID:500-456
LOCATION:     
SUMMARY:LFF LATVIJAS JAUNATNES ČEMPIONĀTS FUTBOLĀ - 2005.dz.g. (U-12) Vieta- Ogre, Laiks- 10:00
DTSTAMP:20170620T000000
ORGANIZER;CN=web admin:MAILTO:edgarsklibus@inbox.lv
DTSTART:20170620T000000
DTEND:20170620T000000
URL;VALUE=URI:https://fsgarkalne.lv
DESCRIPTION:LFF LATVIJAS JAUNATNES ČEMPIONĀTS FUTBOLĀ - 2005.dz.g. (U-12) Vieta- Ogre, Laiks- 10:00
CATEGORIES:Spēles(LJFC)
END:VEVENT
BEGIN:VEVENT
UID:501-457
LOCATION:     
SUMMARY:LFF LATVIJAS JAUNATNES ČEMPIONĀTS FUTBOLĀ - 2006.dz.g. (U-11) Vieta- Ogre, Laiks- 10:00
DTSTAMP:20170622T000000
ORGANIZER;CN=web admin:MAILTO:edgarsklibus@inbox.lv
DTSTART:20170622T000000
DTEND:20170622T000000
URL;VALUE=URI:https://fsgarkalne.lv
DESCRIPTION:LFF LATVIJAS JAUNATNES ČEMPIONĀTS FUTBOLĀ - 2006.dz.g. (U-11) Vieta- Ogre, Laiks- 10:00
CATEGORIES:Spēles(LJFC)
END:VEVENT
BEGIN:VEVENT
UID:475-432
LOCATION:     
SUMMARY:Latvijas Zēnu futbola festivāls 2017. gadā norisināsies Zvejnieku parkā Salacgrīvā. Spēlē 2005.dz.g.(U12), 2006(U11),2007(U10)
DTSTAMP:20170627T000000
ORGANIZER;CN=web admin:MAILTO:edgarsklibus@inbox.lv
DTSTART:20170627T000000
DTEND:20170629T000000
URL;VALUE=URI:https://fsgarkalne.lv
DESCRIPTION:Latvijas Zēnu futbola festivāls 2017. gadā norisināsies Zvejnieku parkā Salacgrīvā. Spēlē 2005.dz.g.(U12), 2006(U11),2007(U10)
CATEGORIES:Turnīri
END:VEVENT
END:VCALENDAR