BEGIN:VCALENDAR
VERSION:2.0
METHOD:PUBLISH
PRODID:-//Accessible Web Design//My Calendar//http://www.mywpcal.com//v2.2.13//EN
BEGIN:VEVENT
UID:601-547
LOCATION:     
SUMMARY:LFF Rīgas reģiona Jaunatnes čempionāts futbolā 2007.dz. A grupa spēle (U-11) Vieta - Juglas vsk.. Sākums A 20:00. Spēle pret Super Nova.
DTSTAMP:20180601T200000
ORGANIZER;CN=web admin:MAILTO:edgarsklibus@inbox.lv
DTSTART:20180601T200000
DTEND:20180601T210000
URL;VALUE=URI:https://fsgarkalne.lv
DESCRIPTION:LFF Rīgas reģiona Jaunatnes čempionāts futbolā 2007.dz. A grupa spēle (U-11) Vieta - Juglas vsk.. Sākums A 20:00.Spēle pret Super Nova.
CATEGORIES:Spēles(LJFC)
END:VEVENT
BEGIN:VEVENT
UID:602-548
LOCATION:     
SUMMARY:LFF Rīgas reģiona Jaunatnes čempionāts futbolā 2007.dz. B grupa spēle (U-11) Vieta - Ostvalda vsk. Sākums 10:00. Spēle pret FJK Daugava.
DTSTAMP:20180602T100000
ORGANIZER;CN=web admin:MAILTO:edgarsklibus@inbox.lv
DTSTART:20180602T100000
DTEND:20180602T110000
URL;VALUE=URI:https://fsgarkalne.lv
DESCRIPTION:LFF Rīgas reģiona Jaunatnes čempionāts futbolā 2007.dz. B grupa spēle (U-11) Vieta - Ostvalda vsk. Sākums 10:00.Spēle pret FJK Daugava.
CATEGORIES:Spēles(LJFC)
END:VEVENT
BEGIN:VEVENT
UID:603-549
LOCATION:     
SUMMARY:LFF Jaunatnes čempionāts futbolā 2005.dz. (U-13) Vieta - Upesciems. Sākums 11:00 Spēle pret FC Gauja
DTSTAMP:20180602T110000
ORGANIZER;CN=web admin:MAILTO:edgarsklibus@inbox.lv
DTSTART:20180602T110000
DTEND:20180602T121500
URL;VALUE=URI:https://fsgarkalne.lv
DESCRIPTION:LFF Jaunatnes čempionāts futbolā 2005.dz. (U-13) Vieta - Upesciems. Sākums 11:00Spēle pret FC Gauja
CATEGORIES:Spēles(LJFC)
END:VEVENT
BEGIN:VEVENT
UID:604-550
LOCATION:     
SUMMARY:LFF Vidzemes reģiona Jaunatnes čempionāts futbolā 2008.dz. (U- 10) Vieta - Ogre. Sākums 10:00
DTSTAMP:20180604T100000
ORGANIZER;CN=web admin:MAILTO:edgarsklibus@inbox.lv
DTSTART:20180604T100000
DTEND:20180604T150000
URL;VALUE=URI:https://fsgarkalne.lv
DESCRIPTION:LFF Vidzemes reģiona Jaunatnes čempionāts futbolā 2008.dz. (U- 10) Vieta - Ogre. Sākums 10:00
CATEGORIES:Spēles(LJFC)
END:VEVENT
BEGIN:VEVENT
UID:605-551
LOCATION:     
SUMMARY:LFF Rīgas reģiona Jaunatnes čempionāts futbolā 2007.dz. A un B grupa spēle(U-11) Vieta - Juglas vsk. Sākums A - 18:30; B-19.15 Spēle pret A - RFS, B - Nikars/Vanagi.
DTSTAMP:20180604T183000
ORGANIZER;CN=web admin:MAILTO:edgarsklibus@inbox.lv
DTSTART:20180604T183000
DTEND:20180604T200000
URL;VALUE=URI:https://fsgarkalne.lv
DESCRIPTION:LFF Rīgas reģiona Jaunatnes čempionāts futbolā 2007.dz. A un B grupa spēle(U-11) Vieta - Juglas vsk. Sākums A - 18:30; B-19.15Spēle pret A - RFS, B - Nikars/Vanagi.
CATEGORIES:Spēles(LJFC)
END:VEVENT
BEGIN:VEVENT
UID:606-552
LOCATION:     
SUMMARY:LFF Vidzemes reģiona Jaunatnes čempionāts futbolā 2010.dz. (U- 8) Vieta - Ogre/Carnikava. Sākums 10:00
DTSTAMP:20180605T100000
ORGANIZER;CN=web admin:MAILTO:edgarsklibus@inbox.lv
DTSTART:20180605T100000
DTEND:20180605T150000
URL;VALUE=URI:https://fsgarkalne.lv
DESCRIPTION:LFF Vidzemes reģiona Jaunatnes čempionāts futbolā 2010.dz. (U- 8) Vieta - Ogre/Carnikava. Sākums 10:00
CATEGORIES:Spēles(LJFC)
END:VEVENT
BEGIN:VEVENT
UID:607-553
LOCATION:     
SUMMARY:LFF Vidzemes reģiona Jaunatnes čempionāts futbolā 2006.dz. (U- 12) Vieta - Smiltene. Sākums 10:00
DTSTAMP:20180606T100000
ORGANIZER;CN=web admin:MAILTO:edgarsklibus@inbox.lv
DTSTART:20180606T100000
DTEND:20180606T130000
URL;VALUE=URI:https://fsgarkalne.lv
DESCRIPTION:LFF Vidzemes reģiona Jaunatnes čempionāts futbolā 2006.dz. (U- 12) Vieta - Smiltene. Sākums 10:00
CATEGORIES:Spēles(LJFC)
END:VEVENT
BEGIN:VEVENT
UID:609-555
LOCATION:     
SUMMARY:LFF Jaunatnes čempionāts futbolā 2005.dz. (U-13) Vieta - Carnikava. Sākums 16:00 Spēle pret FK Ādaži/ Carnikava
DTSTAMP:20180607T160000
ORGANIZER;CN=web admin:MAILTO:edgarsklibus@inbox.lv
DTSTART:20180607T160000
DTEND:20180607T171500
URL;VALUE=URI:https://fsgarkalne.lv
DESCRIPTION:LFF Jaunatnes čempionāts futbolā 2005.dz. (U-13) Vieta - Upesciems. Sākums 16:00Spēle pret FK Ādaži/ Carnikava
CATEGORIES:Spēles(LJFC)
END:VEVENT
BEGIN:VEVENT
UID:643-582
LOCATION:     
SUMMARY:LFF Rīgas reģiona Jaunatnes čempionāts futbolā 2007.dz. A grupa spēle (U-11) Vieta - Juglas vsk.. Sākums A 18:30. Spēle pret FK Dinamo 3.
DTSTAMP:20180611T183000
ORGANIZER;CN=web admin:MAILTO:edgarsklibus@inbox.lv
DTSTART:20180611T183000
DTEND:20180611T191500
URL;VALUE=URI:https://fsgarkalne.lv
DESCRIPTION:LFF Rīgas reģiona Jaunatnes čempionāts futbolā 2007.dz. A grupa spēle (U-11) Vieta - Juglas vsk.. Sākums A 18:30. Spēle pret FK Dinamo 3.
CATEGORIES:Spēles(LJFC)
END:VEVENT
BEGIN:VEVENT
UID:610-556
LOCATION:     
SUMMARY:LFF Vidzemes reģiona Jaunatnes čempionāts futbolā 2008.dz. (U- 10) Vieta - Ogre. Sākums 10:00
DTSTAMP:20180613T100000
ORGANIZER;CN=web admin:MAILTO:edgarsklibus@inbox.lv
DTSTART:20180613T100000
DTEND:20180613T140000
URL;VALUE=URI:https://fsgarkalne.lv
DESCRIPTION:LFF Vidzemes reģiona Jaunatnes čempionāts futbolā 2008.dz. (U- 10) Vieta - Ogre. Sākums 10:00
CATEGORIES:Spēles(LJFC)
END:VEVENT
BEGIN:VEVENT
UID:578-524
LOCATION:     
SUMMARY:Dobrecova kauss 2018 ( Latvija, Liepāja) U-13 14.06.-17.06.2018 (11x11)
DTSTAMP:20180614T000000
ORGANIZER;CN=web admin:MAILTO:edgarsklibus@inbox.lv
DTSTART:20180614T000000
DTEND:20180617T000000
URL;VALUE=URI:https://fsgarkalne.lv
DESCRIPTION:Dobrecova kauss 2018 ( Latvija, Liepāja) U-13 14.06.-17.06.2018 (11x11)
CATEGORIES:Turnīri
END:VEVENT
BEGIN:VEVENT
UID:641-525
LOCATION:     
SUMMARY:Dobrecova kauss 2018 ( Latvija, Liepāja) U-8 15.06.-17.06.2018 (6x6)
DTSTAMP:20180615T000000
ORGANIZER;CN=web admin:MAILTO:edgarsklibus@inbox.lv
DTSTART:20180615T000000
DTEND:20180617T000000
URL;VALUE=URI:https://fsgarkalne.lv
DESCRIPTION:Dobrecova kauss 2018 ( Latvija, Liepāja) U-8 15.06.-17.06.2018 (6x6)
CATEGORIES:Turnīri
END:VEVENT
BEGIN:VEVENT
UID:644-583
LOCATION:     
SUMMARY:LFF Vidzemes reģiona Jaunatnes čempionāts futbolā 2009.dz.g. (U- 9) Vieta - Ogre. Sākums 10:00
DTSTAMP:20180615T100000
ORGANIZER;CN=web admin:MAILTO:edgarsklibus@inbox.lv
DTSTART:20180615T100000
DTEND:20180615T150000
URL;VALUE=URI:https://fsgarkalne.lv
DESCRIPTION:LFF Vidzemes reģiona Jaunatnes čempionāts futbolā 2009.dz.g. (U- 9) Vieta - Ogre. Sākums 10:00
CATEGORIES:Spēles(LJFC)
END:VEVENT
BEGIN:VEVENT
UID:611-557
LOCATION:     
SUMMARY:LFF Vidzemes reģiona Jaunatnes čempionāts futbolā 2010.dz. (U- 8) Vieta - Ogre/Carnikava. Sākums 10:00
DTSTAMP:20180618T100000
ORGANIZER;CN=web admin:MAILTO:edgarsklibus@inbox.lv
DTSTART:20180618T100000
DTEND:20180618T140000
URL;VALUE=URI:https://fsgarkalne.lv
DESCRIPTION:LFF Vidzemes reģiona Jaunatnes čempionāts futbolā 2010.dz. (U- 8) Vieta - Ogre/Carnikava. Sākums 10:00
CATEGORIES:Spēles(LJFC)
END:VEVENT
BEGIN:VEVENT
UID:612-558
LOCATION:     
SUMMARY:LFF Vidzemes reģiona Jaunatnes čempionāts futbolā 2008.dz. (U- 10) Vieta - Ogre. Sākums 10:00
DTSTAMP:20180619T100000
ORGANIZER;CN=web admin:MAILTO:edgarsklibus@inbox.lv
DTSTART:20180619T100000
DTEND:20180619T140000
URL;VALUE=URI:https://fsgarkalne.lv
DESCRIPTION:LFF Vidzemes reģiona Jaunatnes čempionāts futbolā 2008.dz. (U- 10) Vieta - Ogre. Sākums 10:00
CATEGORIES:Spēles(LJFC)
END:VEVENT
BEGIN:VEVENT
UID:613-559
LOCATION:     
SUMMARY:LFF Jaunatnes čempionāts futbolā 2005.dz. (U-13) Vieta - Upesciems. Sākums 11:00 Spēle pret Vidzemes FC -2
DTSTAMP:20180622T110000
ORGANIZER;CN=web admin:MAILTO:edgarsklibus@inbox.lv
DTSTART:20180622T110000
DTEND:20180622T121500
URL;VALUE=URI:https://fsgarkalne.lv
DESCRIPTION:LFF Jaunatnes čempionāts futbolā 2005.dz. (U-13) Vieta - Upesciems. Sākums 11:00Spēle pret Vidzemes FC -2
CATEGORIES:Spēles(LJFC)
END:VEVENT
BEGIN:VEVENT
UID:615-561
LOCATION:     
SUMMARY:LFF Vidzemes reģiona Jaunatnes čempionāts futbolā 2006.dz. (U- 12) Vieta - Ogre. Sākums 10:00
DTSTAMP:20180626T100000
ORGANIZER;CN=web admin:MAILTO:edgarsklibus@inbox.lv
DTSTART:20180626T100000
DTEND:20180626T140000
URL;VALUE=URI:https://fsgarkalne.lv
DESCRIPTION:LFF Vidzemes reģiona Jaunatnes čempionāts futbolā 2006.dz. (U- 12) Vieta - Ogre. Sākums 10:00
CATEGORIES:Spēles(LJFC)
END:VEVENT
END:VCALENDAR