BEGIN:VCALENDAR
VERSION:2.0
METHOD:PUBLISH
PRODID:-//Accessible Web Design//My Calendar//http://www.mywpcal.com//v2.2.13//EN
BEGIN:VEVENT
UID:682-621
LOCATION:     
SUMMARY:Gaujas svētku gājiens, Ādažos.
DTSTAMP:20190601T000000
ORGANIZER;CN=web admin:MAILTO:edgarsklibus@inbox.lv
DTSTART:20190601T000000
DTEND:20190601T000000
URL;VALUE=URI:https://fsgarkalne.lv
DESCRIPTION:Gaujas svētku gājiens, Ādažos.
CATEGORIES:Pasākumi
END:VEVENT
BEGIN:VEVENT
UID:679-618
LOCATION:     
SUMMARY:LJFČ U-13 Ogre, pret Ogres NSC. Spēles sākums - 12:00. Jābūt 11:00
DTSTAMP:20190602T120000
ORGANIZER;CN=web admin:MAILTO:edgarsklibus@inbox.lv
DTSTART:20190602T120000
DTEND:20190602T131500
URL;VALUE=URI:https://fsgarkalne.lv
DESCRIPTION:LJFČ U-13 Ogre, pret Ogres NSC. Spēles sākums - 12:00. Jābūt 11:00
CATEGORIES:Spēles(LJFC)
END:VEVENT
BEGIN:VEVENT
UID:680-619
LOCATION:     
SUMMARY:Vidzemes zonas čempionāts 2019 U-12(2007.dz.g.) Vieta - nav zināma.
DTSTAMP:20190604T000000
ORGANIZER;CN=web admin:MAILTO:edgarsklibus@inbox.lv
DTSTART:20190604T000000
DTEND:20190604T000000
URL;VALUE=URI:https://fsgarkalne.lv
DESCRIPTION:Vidzemes zonas čempionāts 2019 U-12(2007.dz.g.) Vieta - nav zināma.
CATEGORIES:Spēles(LJFC)
END:VEVENT
BEGIN:VEVENT
UID:681-620
LOCATION:     
SUMMARY:LJFČ U-13 Valmiera, pret FC Gauja. Spēles sākums - 11:00. Jābūt 10:00
DTSTAMP:20190605T110000
ORGANIZER;CN=web admin:MAILTO:edgarsklibus@inbox.lv
DTSTART:20190605T110000
DTEND:20190605T121500
URL;VALUE=URI:https://fsgarkalne.lv
DESCRIPTION:LJFČ U-13 Valmiera, pret FC Gauja. Spēles sākums - 11:00. Jābūt 10:00
CATEGORIES:Spēles(LJFC)
END:VEVENT
BEGIN:VEVENT
UID:661-600
LOCATION:     
SUMMARY:Aglona 30.06.-6.07.
DTSTAMP:20190630T000000
ORGANIZER;CN=web admin:MAILTO:edgarsklibus@inbox.lv
DTSTART:20190630T000000
DTEND:20190706T000000
URL;VALUE=URI:https://fsgarkalne.lv
DESCRIPTION:Aglona 30.06.-6.07.
CATEGORIES:Galvenā
END:VEVENT
END:VCALENDAR