BEGIN:VCALENDAR
VERSION:2.0
METHOD:PUBLISH
PRODID:-//Accessible Web Design//My Calendar//http://www.mywpcal.com//v2.2.13//EN
BEGIN:VEVENT
UID:551-499
LOCATION:     
SUMMARY:Brazilian Football Campus 2017 Carnikavā 31.07.-4.08.2017 9:00-15:00
DTSTAMP:20170731T000000
ORGANIZER;CN=web admin:MAILTO:edgarsklibus@inbox.lv
DTSTART:20170731T000000
DTEND:20170804T000000
URL;VALUE=URI:https://fsgarkalne.lv
DESCRIPTION:Brazilian Football Campus 2017 Carnikavā 31.07.-4.08.2017 9:00-15:00
CATEGORIES:Pasākumi
END:VEVENT
BEGIN:VEVENT
UID:543-492
LOCATION:     
SUMMARY:LFF LATVIJAS JAUNATNES ČEMPIONĀTS FUTBOLĀ A,B FINĀLS - 2006.dz.g. (U-11) Vieta- Ogre vai Valmiera, Laiks- 10:30
DTSTAMP:20170809T103000
ORGANIZER;CN=web admin:MAILTO:edgarsklibus@inbox.lv
DTSTART:20170809T103000
DTEND:20170809T143000
URL;VALUE=URI:https://fsgarkalne.lv
DESCRIPTION:LFF LATVIJAS JAUNATNES ČEMPIONĀTS FUTBOLĀ A,B FINĀLS - 2006.dz.g. (U-11) Vieta- Ogre vai Valmiera, Laiks- 10:30
CATEGORIES:Spēles(LJFC)
END:VEVENT
BEGIN:VEVENT
UID:548-496
LOCATION:     
SUMMARY:Dobrecova cup 2017 U-12 11.-13.08.2017 Liepājā
DTSTAMP:20170811T000000
ORGANIZER;CN=web admin:MAILTO:edgarsklibus@inbox.lv
DTSTART:20170811T000000
DTEND:20170813T000000
URL;VALUE=URI:https://fsgarkalne.lv
DESCRIPTION:Dobrecova cup 2017 U-12 11.-13.08.2017 Liepājā
CATEGORIES:Turnīri
END:VEVENT
BEGIN:VEVENT
UID:514-470
LOCATION:     
SUMMARY:LFF LATVIJAS JAUNATNES ČEMPIONĀTS FUTBOLĀ - 2009.dz.g. (U-8) Vieta- Carnikava, Laiks-10:00
DTSTAMP:20170813T000000
ORGANIZER;CN=web admin:MAILTO:edgarsklibus@inbox.lv
DTSTART:20170813T000000
DTEND:20170813T000000
URL;VALUE=URI:https://fsgarkalne.lv
DESCRIPTION:LFF LATVIJAS JAUNATNES ČEMPIONĀTS FUTBOLĀ - 2009.dz.g. (U-8) Vieta- Carnikava, Laiks-10:00
CATEGORIES:Spēles(LJFC)
END:VEVENT
BEGIN:VEVENT
UID:544-493
LOCATION:     
SUMMARY:LFF LATVIJAS JAUNATNES ČEMPIONĀTS FUTBOLĀ A,B FINĀLS - 2006.dz.g. (U-11) Vieta- Valmiera vai Ogre, Laiks- 10:30
DTSTAMP:20170814T103000
ORGANIZER;CN=web admin:MAILTO:edgarsklibus@inbox.lv
DTSTART:20170814T103000
DTEND:20170814T143000
URL;VALUE=URI:https://fsgarkalne.lv
DESCRIPTION:LFF LATVIJAS JAUNATNES ČEMPIONĀTS FUTBOLĀ A,B FINĀLS - 2006.dz.g. (U-11) Vieta- Valmiera vai Ogre, Laiks- 10:30
CATEGORIES:Spēles(LJFC)
END:VEVENT
BEGIN:VEVENT
UID:511-467
LOCATION:     
SUMMARY:LFF LATVIJAS JAUNATNES ČEMPIONĀTS FUTBOLĀ 11x11 - 2004.dz.g. (U-13) Vieta- Upesciems, Laiks- 11:00 Spēle pret Ogre NSS
DTSTAMP:20170814T110000
ORGANIZER;CN=web admin:MAILTO:edgarsklibus@inbox.lv
DTSTART:20170814T110000
DTEND:20170814T120000
URL;VALUE=URI:https://fsgarkalne.lv
DESCRIPTION:LFF LATVIJAS JAUNATNES ČEMPIONĀTS FUTBOLĀ 11x11 - 2004.dz.g. (U-13) Vieta- Upesciems, Laiks- 11:00 Spēle pret Ogre NSS
CATEGORIES:Spēles(LJFC)
END:VEVENT
BEGIN:VEVENT
UID:512-468
LOCATION:     
SUMMARY:LFF LATVIJAS JAUNATNES ČEMPIONĀTS FUTBOLĀ 11x11 - 2004.dz.g. (U-13) Vieta- Carnikava, Laiks- 17:00 Spēle pret FK Ādaži
DTSTAMP:20170817T170000
ORGANIZER;CN=web admin:MAILTO:edgarsklibus@inbox.lv
DTSTART:20170817T170000
DTEND:20170817T180000
URL;VALUE=URI:https://fsgarkalne.lv
DESCRIPTION:LFF LATVIJAS JAUNATNES ČEMPIONĀTS FUTBOLĀ 11x11 - 2004.dz.g. (U-13) Vieta- Carnikava, Laiks- 17:00 Spēle pret FK Ādaži
CATEGORIES:Spēles(LJFC)
END:VEVENT
BEGIN:VEVENT
UID:515-471
LOCATION:     
SUMMARY:LFF LATVIJAS JAUNATNES ČEMPIONĀTS FUTBOLĀ - 2010.dz.g. (U-7) Vieta- Ogre, Laiks- 10:00
DTSTAMP:20170820T000000
ORGANIZER;CN=web admin:MAILTO:edgarsklibus@inbox.lv
DTSTART:20170820T000000
DTEND:20170820T000000
URL;VALUE=URI:https://fsgarkalne.lv
DESCRIPTION:LFF LATVIJAS JAUNATNES ČEMPIONĀTS FUTBOLĀ - 2010.dz.g. (U-7) Vieta- Ogre, Laiks- 10:00
CATEGORIES:Spēles(LJFC)
END:VEVENT
BEGIN:VEVENT
UID:516-472
LOCATION:     
SUMMARY:LFF LATVIJAS JAUNATNES ČEMPIONĀTS FUTBOLĀ - 2008.dz.g. (U-9) Vieta- Ogre, Laiks- 10:00
DTSTAMP:20170822T000000
ORGANIZER;CN=web admin:MAILTO:edgarsklibus@inbox.lv
DTSTART:20170822T000000
DTEND:20170822T000000
URL;VALUE=URI:https://fsgarkalne.lv
DESCRIPTION:LFF LATVIJAS JAUNATNES ČEMPIONĀTS FUTBOLĀ - 2008.dz.g. (U-9) Vieta- Ogre, Laiks- 10:00
CATEGORIES:Spēles(LJFC)
END:VEVENT
BEGIN:VEVENT
UID:513-469
LOCATION:     
SUMMARY:LFF LATVIJAS JAUNATNES ČEMPIONĀTS FUTBOLĀ 11x11 - 2004.dz.g. (U-13) Vieta- Upesciems, Laiks- 16:00, Spēle pret Alojas NSS
DTSTAMP:20170822T160000
ORGANIZER;CN=web admin:MAILTO:edgarsklibus@inbox.lv
DTSTART:20170822T160000
DTEND:20170822T170000
URL;VALUE=URI:https://fsgarkalne.lv
DESCRIPTION:LFF LATVIJAS JAUNATNES ČEMPIONĀTS FUTBOLĀ 11x11 - 2004.dz.g. (U-13) Vieta- Upesciems, Laiks- 16:00, Spēle pret Alojas NSS
CATEGORIES:Spēles(LJFC)
END:VEVENT
BEGIN:VEVENT
UID:546-494
LOCATION:     
SUMMARY:LFF LATVIJAS JAUNATNES ČEMPIONĀTS FUTBOLĀ A FINĀLS - 2005.dz.g. (U-12) Vieta- Valmiera, Laiks- 10:30
DTSTAMP:20170823T103000
ORGANIZER;CN=web admin:MAILTO:edgarsklibus@inbox.lv
DTSTART:20170823T103000
DTEND:20170823T143000
URL;VALUE=URI:https://fsgarkalne.lv
DESCRIPTION:LFF LATVIJAS JAUNATNES ČEMPIONĀTS FUTBOLĀ A FINĀLS - 2005.dz.g. (U-12) Vieta- Valmiera, Laiks- 10:30
CATEGORIES:Spēles(LJFC)
END:VEVENT
BEGIN:VEVENT
UID:517-473
LOCATION:     
SUMMARY:LFF LATVIJAS JAUNATNES ČEMPIONĀTS FUTBOLĀ - 2009.dz.g. (U-8) Vieta- Carnikava, Laiks- 10:00
DTSTAMP:20170827T000000
ORGANIZER;CN=web admin:MAILTO:edgarsklibus@inbox.lv
DTSTART:20170827T000000
DTEND:20170827T000000
URL;VALUE=URI:https://fsgarkalne.lv
DESCRIPTION:LFF LATVIJAS JAUNATNES ČEMPIONĀTS FUTBOLĀ - 2009.dz.g. (U-8) Vieta- Carnikava, Laiks- 10:00
CATEGORIES:Spēles(LJFC)
END:VEVENT
BEGIN:VEVENT
UID:547-495
LOCATION:     
SUMMARY:LFF LATVIJAS JAUNATNES ČEMPIONĀTS FUTBOLĀ B FINĀLS - 2005.dz.g. (U-12) Vieta- Ogre, Laiks- 10:30
DTSTAMP:20170830T103000
ORGANIZER;CN=web admin:MAILTO:edgarsklibus@inbox.lv
DTSTART:20170830T103000
DTEND:20170830T143000
URL;VALUE=URI:https://fsgarkalne.lv
DESCRIPTION:LFF LATVIJAS JAUNATNES ČEMPIONĀTS FUTBOLĀ B FINĀLS - 2005.dz.g. (U-12) Vieta- Ogre, Laiks- 10:30
CATEGORIES:Spēles(LJFC)
END:VEVENT
END:VCALENDAR