BEGIN:VCALENDAR
VERSION:2.0
METHOD:PUBLISH
PRODID:-//Accessible Web Design//My Calendar//http://www.mywpcal.com//v2.2.13//EN
BEGIN:VEVENT
UID:618-564
LOCATION:     
SUMMARY:LFF Vidzemes reģiona Jaunatnes čempionāts futbolā 2006.dz. (U- 12) Vieta - Smiltene. Sākums 10:00
DTSTAMP:20180801T100000
ORGANIZER;CN=web admin:MAILTO:edgarsklibus@inbox.lv
DTSTART:20180801T100000
DTEND:20180801T140000
URL;VALUE=URI:https://fsgarkalne.lv
DESCRIPTION:LFF Vidzemes reģiona Jaunatnes čempionāts futbolā 2006.dz. (U- 12) Vieta - Smiltene. Sākums 10:00
CATEGORIES:Spēles(LJFC)
END:VEVENT
BEGIN:VEVENT
UID:622-568
LOCATION:     
SUMMARY:LFF Jaunatnes čempionāts futbolā 2005.dz. (U-13) Vieta - Upesciems. Sākums 17:00 Spēle pret Vidzemes FC -2006
DTSTAMP:20180803T170000
ORGANIZER;CN=web admin:MAILTO:edgarsklibus@inbox.lv
DTSTART:20180803T170000
DTEND:20180803T181500
URL;VALUE=URI:https://fsgarkalne.lv
DESCRIPTION:LFF Jaunatnes čempionāts futbolā 2005.dz. (U-13) Vieta - Upesciems. Sākums 17:00 Spēle pret Vidzemes FC -2006
CATEGORIES:Spēles(LJFC)
END:VEVENT
BEGIN:VEVENT
UID:623-569
LOCATION:     
SUMMARY:LFF Vidzemes reģiona Jaunatnes čempionāts futbolā FINĀLS 2008.dz. (U- 10) Vieta - Ogre vai Valmiera. Sākums 10:00
DTSTAMP:20180809T100000
ORGANIZER;CN=web admin:MAILTO:edgarsklibus@inbox.lv
DTSTART:20180809T100000
DTEND:20180809T140000
URL;VALUE=URI:https://fsgarkalne.lv
DESCRIPTION:LFF Vidzemes reģiona Jaunatnes čempionāts futbolā FINĀLS 2008.dz. (U- 10) Vieta - Ogre vai Valmiera. Sākums 10:00
CATEGORIES:Spēles(LJFC)
END:VEVENT
BEGIN:VEVENT
UID:636-570
LOCATION:     
SUMMARY:LFF Jaunatnes čempionāts futbolā 2005.dz. (U-13) Vieta - Upesciems. Sākums 15:00 Spēle pret Ogres NCS
DTSTAMP:20180810T150000
ORGANIZER;CN=web admin:MAILTO:edgarsklibus@inbox.lv
DTSTART:20180810T150000
DTEND:20180810T161500
URL;VALUE=URI:https://fsgarkalne.lv
DESCRIPTION:LFF Jaunatnes čempionāts futbolā 2005.dz. (U-13) Vieta - Upesciems. Sākums 15:00 Spēle pret Ogres NCS
CATEGORIES:Spēles(LJFC)
END:VEVENT
BEGIN:VEVENT
UID:639-571
LOCATION:     
SUMMARY:LFF Jaunatnes čempionāts futbolā 2005.dz. (U-13) Vieta - Upesciems. Sākums 16:00 Spēle pret FK Ādaži/ Carnikava
DTSTAMP:20180813T160000
ORGANIZER;CN=web admin:MAILTO:edgarsklibus@inbox.lv
DTSTART:20180813T160000
DTEND:20180813T171500
URL;VALUE=URI:https://fsgarkalne.lv
DESCRIPTION:LFF Jaunatnes čempionāts futbolā 2005.dz. (U-13) Vieta - Upesciems. Sākums 16:00 Spēle pret FK Ādaži/ Carnikava
CATEGORIES:Spēles(LJFC)
END:VEVENT
BEGIN:VEVENT
UID:626-572
LOCATION:     
SUMMARY:LFF Vidzemes reģiona Jaunatnes čempionāts futbolā 2006.dz. (U- 12) Vieta - Ogre. Sākums 10:00
DTSTAMP:20180820T100000
ORGANIZER;CN=web admin:MAILTO:edgarsklibus@inbox.lv
DTSTART:20180820T100000
DTEND:20180820T140000
URL;VALUE=URI:https://fsgarkalne.lv
DESCRIPTION:LFF Vidzemes reģiona Jaunatnes čempionāts futbolā 2006.dz. (U- 12) Vieta - Ogre. Sākums 10:00
CATEGORIES:Spēles(LJFC)
END:VEVENT
BEGIN:VEVENT
UID:627-573
LOCATION:     
SUMMARY:LFF Vidzemes reģiona Jaunatnes čempionāts futbolā 2010.dz. (U- 8) Vieta - Ogre/Carnikava. Sākums 10:00
DTSTAMP:20180821T100000
ORGANIZER;CN=web admin:MAILTO:edgarsklibus@inbox.lv
DTSTART:20180821T100000
DTEND:20180821T140000
URL;VALUE=URI:https://fsgarkalne.lv
DESCRIPTION:LFF Vidzemes reģiona Jaunatnes čempionāts futbolā 2010.dz. (U- 8) Vieta - Ogre/Carnikava. Sākums 10:00
CATEGORIES:Spēles(LJFC)
END:VEVENT
BEGIN:VEVENT
UID:628-574
LOCATION:     
SUMMARY:LFF Vidzemes reģiona Jaunatnes čempionāts futbolā 2009.dz. (U- 9) Vieta - Ogre/ Carnikava. Sākums 10:00
DTSTAMP:20180824T100000
ORGANIZER;CN=web admin:MAILTO:edgarsklibus@inbox.lv
DTSTART:20180824T100000
DTEND:20180824T140000
URL;VALUE=URI:https://fsgarkalne.lv
DESCRIPTION:LFF Vidzemes reģiona Jaunatnes čempionāts futbolā 2009.dz. (U- 9) Vieta - Ogre/ Carnikava. Sākums 10:00
CATEGORIES:Spēles(LJFC)
END:VEVENT
BEGIN:VEVENT
UID:645-584
LOCATION:     
SUMMARY:26.08. RFS atklātais turnīrs U-11 (2007.dz.g.)  Stāmerienas iela 8 ( Rīgas 8.vakara(maiņu) vsk.) Sākums 11:00
DTSTAMP:20180826T110000
ORGANIZER;CN=web admin:MAILTO:edgarsklibus@inbox.lv
DTSTART:20180826T110000
DTEND:20180826T170000
URL;VALUE=URI:https://fsgarkalne.lv
DESCRIPTION:26.08. RFS atklātais turnīrs U-11 (2007.dz.g.)  Stāmerienas iela 8 ( Rīgas 8.vakara(maiņu) vsk.) Sākums 11:00
CATEGORIES:Turnīri
END:VEVENT
BEGIN:VEVENT
UID:630-576
LOCATION:     
SUMMARY:LFF Vidzemes reģiona Jaunatnes čempionāts futbolā 2010.dz. (U- 8) Vieta - Ogre/Carnikava. Sākums 10:00
DTSTAMP:20180829T100000
ORGANIZER;CN=web admin:MAILTO:edgarsklibus@inbox.lv
DTSTART:20180829T100000
DTEND:20180829T140000
URL;VALUE=URI:https://fsgarkalne.lv
DESCRIPTION:LFF Vidzemes reģiona Jaunatnes čempionāts futbolā 2010.dz. (U- 8) Vieta - Ogre/Carnikava. Sākums 10:00
CATEGORIES:Spēles(LJFC)
END:VEVENT
BEGIN:VEVENT
UID:631-577
LOCATION:     
SUMMARY:LFF Vidzemes reģiona Jaunatnes čempionāts futbolā 2006.dz. (U- 12) Vieta - Smiltene. Sākums 10:00
DTSTAMP:20180830T100000
ORGANIZER;CN=web admin:MAILTO:edgarsklibus@inbox.lv
DTSTART:20180830T100000
DTEND:20180830T140000
URL;VALUE=URI:https://fsgarkalne.lv
DESCRIPTION:LFF Vidzemes reģiona Jaunatnes čempionāts futbolā 2006.dz. (U- 12) Vieta - Smiltene. Sākums 10:00
CATEGORIES:Spēles(LJFC)
END:VEVENT
END:VCALENDAR