BEGIN:VCALENDAR
VERSION:2.0
METHOD:PUBLISH
PRODID:-//Accessible Web Design//My Calendar//http://www.mywpcal.com//v2.2.13//EN
BEGIN:VEVENT
UID:518-474
LOCATION:     
SUMMARY:LFF LATVIJAS JAUNATNES ČEMPIONĀTS FUTBOLĀ - 2010.dz.g. (U-7) Vieta- Ogre, Laiks- 10:00
DTSTAMP:20170903T000000
ORGANIZER;CN=web admin:MAILTO:edgarsklibus@inbox.lv
DTSTART:20170903T000000
DTEND:20170903T000000
URL;VALUE=URI:https://fsgarkalne.lv
DESCRIPTION:LFF LATVIJAS JAUNATNES ČEMPIONĀTS FUTBOLĀ - 2010.dz.g. (U-7) Vieta- Ogre, Laiks- 10:00
CATEGORIES:Spēles(LJFC)
END:VEVENT
BEGIN:VEVENT
UID:519-475
LOCATION:     
SUMMARY:LFF LATVIJAS JAUNATNES ČEMPIONĀTS FUTBOLĀ - 2009.dz.g. (U-8) Vieta- Ogre, Laiks- 10:00
DTSTAMP:20170917T000000
ORGANIZER;CN=web admin:MAILTO:edgarsklibus@inbox.lv
DTSTART:20170917T000000
DTEND:20170917T000000
URL;VALUE=URI:https://fsgarkalne.lv
DESCRIPTION:LFF LATVIJAS JAUNATNES ČEMPIONĀTS FUTBOLĀ - 2009.dz.g. (U-8) Vieta- Ogre, Laiks- 10:00
CATEGORIES:Spēles(LJFC)
END:VEVENT
BEGIN:VEVENT
UID:520-476
LOCATION:     
SUMMARY:LFF LATVIJAS JAUNATNES ČEMPIONĀTS FUTBOLĀ - 2008.dz.g. (U-9) Vieta- Ogre, Laiks- 10:00
DTSTAMP:20170924T000000
ORGANIZER;CN=web admin:MAILTO:edgarsklibus@inbox.lv
DTSTART:20170924T000000
DTEND:20170924T000000
URL;VALUE=URI:https://fsgarkalne.lv
DESCRIPTION:LFF LATVIJAS JAUNATNES ČEMPIONĀTS FUTBOLĀ - 2008.dz.g. (U-9) Vieta- Ogre, Laiks- 10:00
CATEGORIES:Spēles(LJFC)
END:VEVENT
END:VCALENDAR