BEGIN:VCALENDAR
VERSION:2.0
METHOD:PUBLISH
PRODID:-//Accessible Web Design//My Calendar//http://www.mywpcal.com//v2.2.13//EN
BEGIN:VEVENT
UID:632-578
LOCATION:     
SUMMARY:LFF Jaunatnes čempionāts futbolā 2005.dz. (U-13) Vieta - Valmiera. Sākums 18:00 Spēle pret FC Gauja
DTSTAMP:20180904T180000
ORGANIZER;CN=web admin:MAILTO:edgarsklibus@inbox.lv
DTSTART:20180904T180000
DTEND:20180904T191500
URL;VALUE=URI:https://fsgarkalne.lv
DESCRIPTION:LFF Jaunatnes čempionāts futbolā 2005.dz. (U-13) Vieta - Valmiera. Sākums 18:00 Spēle pret FC Gauja
CATEGORIES:Spēles(LJFC)
END:VEVENT
BEGIN:VEVENT
UID:637-575
LOCATION:     
SUMMARY:LFF Jaunatnes čempionāts futbolā 2005.dz. (U-13) Vieta - Upesciems. Sākums 16:00 Spēle pret BSSC Ikšķiles
DTSTAMP:20180906T160000
ORGANIZER;CN=web admin:MAILTO:edgarsklibus@inbox.lv
DTSTART:20180906T160000
DTEND:20180906T171500
URL;VALUE=URI:https://fsgarkalne.lv
DESCRIPTION:LFF Jaunatnes čempionāts futbolā 2005.dz. (U-13) Vieta - Upesciems. Sākums 16:00 Spēle pret BSSC Ikšķiles
CATEGORIES:Spēles(LJFC)
END:VEVENT
BEGIN:VEVENT
UID:633-579
LOCATION:     
SUMMARY:LFF Vidzemes reģiona Jaunatnes čempionāts futbolā 2010.dz. (U- 8) Vieta - Ogre. Sākums 10:00
DTSTAMP:20180916T100000
ORGANIZER;CN=web admin:MAILTO:edgarsklibus@inbox.lv
DTSTART:20180916T100000
DTEND:20180916T140000
URL;VALUE=URI:https://fsgarkalne.lv
DESCRIPTION:LFF Vidzemes reģiona Jaunatnes čempionāts futbolā 2010.dz. (U- 8) Vieta - Ogre. Sākums 10:00
CATEGORIES:Spēles(LJFC)
END:VEVENT
BEGIN:VEVENT
UID:634-580
LOCATION:     
SUMMARY:LFF Vidzemes reģiona Jaunatnes čempionāts futbolā 2009.dz. (U- 10) Vieta - Ogre. Sākums 10:00
DTSTAMP:20180922T100000
ORGANIZER;CN=web admin:MAILTO:edgarsklibus@inbox.lv
DTSTART:20180922T100000
DTEND:20180922T140000
URL;VALUE=URI:https://fsgarkalne.lv
DESCRIPTION:LFF Vidzemes reģiona Jaunatnes čempionāts futbolā 2009.dz. (U- 10) Vieta - Ogre. Sākums 10:00
CATEGORIES:Spēles(LJFC)
END:VEVENT
END:VCALENDAR