BEGIN:VCALENDAR
VERSION:2.0
METHOD:PUBLISH
PRODID:-//Accessible Web Design//My Calendar//http://www.mywpcal.com//v2.2.13//EN';
BEGIN:VEVENT
UID:459-417
LOCATION:     
SUMMARY:LFF VIDZEMES REĢIONA JAUNATNES ČEMPIONĀTS FUTBOLĀ TELPĀS - 2006.dz.g. Sākums 9:30, Vieta- Allaži, Skolas iela 5. 2.kārta
DTSTAMP:20170204T093000
ORGANIZER;CN=web admin:MAILTO:edgarsklibus@inbox.lv
DTSTART:20170204T093000
DTEND:20170204T150000
CATEGORIES:Spēles(LJFC)
URL;VALUE=URI:
DESCRIPTION;ENCODING=QUOTED-PRINTABLE:LFF VIDZEMES REĢIONA JAUNATNES ČEMPIONĀTS FUTBOLĀ TELPĀS - 2006.dz.g. Sākums 9:30, Vieta- Allaži, Skolas iela 5. 2.kārta
END:VEVENT
END:VCALENDAR