BEGIN:VCALENDAR
VERSION:2.0
METHOD:PUBLISH
PRODID:-//Accessible Web Design//My Calendar//http://www.mywpcal.com//v2.2.13//EN';
BEGIN:VEVENT
UID:476-433
LOCATION:     
SUMMARY:Treniņi Aglonā 3.07.-9.07.2017
DTSTAMP:20170703T000000
ORGANIZER;CN=web admin:MAILTO:edgarsklibus@inbox.lv
DTSTART:20170703T000000
DTEND:20170709T000000
CATEGORIES:Galvenā
URL;VALUE=URI:
DESCRIPTION;ENCODING=QUOTED-PRINTABLE:Treniņi Aglonā 3.07.-9.07.2017
END:VEVENT
END:VCALENDAR