BEGIN:VCALENDAR
VERSION:2.0
METHOD:PUBLISH
PRODID:-//Accessible Web Design//My Calendar//http://www.mywpcal.com//v2.2.13//EN';
BEGIN:VEVENT
UID:484-440
LOCATION:     
SUMMARY:LFF LATVIJAS JAUNATNES ČEMPIONĀTS FUTBOLĀ TELPĀS - 2007.dz.g. Vieta- Madonas Sporta centrs, Gaujas iela 13, Laiks-10:00
DTSTAMP:20170315T000000
ORGANIZER;CN=web admin:MAILTO:edgarsklibus@inbox.lv
DTSTART:20170315T000000
DTEND:20170315T000000
CATEGORIES:Spēles(LJFC)
URL;VALUE=URI:
DESCRIPTION;ENCODING=QUOTED-PRINTABLE:LFF LATVIJAS JAUNATNES ČEMPIONĀTS FUTBOLĀ TELPĀS - 2007.dz.g. Vieta- Madonas Sporta centrs, Gaujas iela 13, Laiks-10:00
END:VEVENT
END:VCALENDAR