BEGIN:VCALENDAR
VERSION:2.0
METHOD:PUBLISH
PRODID:-//Accessible Web Design//My Calendar//http://www.mywpcal.com//v2.2.13//EN';
BEGIN:VEVENT
UID:505-461
LOCATION:     
SUMMARY:LFF LATVIJAS JAUNATNES ČEMPIONĀTS FUTBOLĀ 11x11 - 2004.dz.g.  (U-13) Vieta- Smiltene., Laiks- 19:00 Spēle pret FC Vidzeme
DTSTAMP:20170509T190000
ORGANIZER;CN=web admin:MAILTO:edgarsklibus@inbox.lv
DTSTART:20170509T190000
DTEND:20170509T200000
CATEGORIES:Spēles(LJFC)
URL;VALUE=URI:
DESCRIPTION;ENCODING=QUOTED-PRINTABLE:LFF LATVIJAS JAUNATNES ČEMPIONĀTS FUTBOLĀ 11x11 - 2004.dz.g.  (U-13) Vieta- Smiltene., Laiks- 19:00 Spēle pret FC Vidzeme
END:VEVENT
END:VCALENDAR