BEGIN:VCALENDAR
VERSION:2.0
METHOD:PUBLISH
PRODID:-//Accessible Web Design//My Calendar//http://www.mywpcal.com//v2.2.13//EN';
BEGIN:VEVENT
UID:508-464
LOCATION:     
SUMMARY:LFF LATVIJAS JAUNATNES ČEMPIONĀTS FUTBOLĀ - 2007.dz.g. A grupa (U-10) Vieta- Juglas vsk., Laiks- 20:00 Spēle pret RFS-2
DTSTAMP:20170602T200000
ORGANIZER;CN=web admin:MAILTO:edgarsklibus@inbox.lv
DTSTART:20170602T200000
DTEND:20170602T210000
CATEGORIES:Spēles(LJFC)
URL;VALUE=URI:
DESCRIPTION;ENCODING=QUOTED-PRINTABLE:LFF LATVIJAS JAUNATNES ČEMPIONĀTS FUTBOLĀ - 2007.dz.g. A grupa (U-10) Vieta- Juglas vsk., Laiks- 20:00 Spēle pret RFS-2
END:VEVENT
END:VCALENDAR