BEGIN:VCALENDAR
VERSION:2.0
METHOD:PUBLISH
PRODID:-//Accessible Web Design//My Calendar//http://www.mywpcal.com//v2.2.13//EN';
BEGIN:VEVENT
UID:511-467
LOCATION:     
SUMMARY:LFF LATVIJAS JAUNATNES ČEMPIONĀTS FUTBOLĀ 11x11 - 2004.dz.g. (U-13) Vieta- Upesciems, Laiks- 11:00 Spēle pret Ogre NSS
DTSTAMP:20170814T110000
ORGANIZER;CN=web admin:MAILTO:edgarsklibus@inbox.lv
DTSTART:20170814T110000
DTEND:20170814T120000
CATEGORIES:Spēles(LJFC)
URL;VALUE=URI:
DESCRIPTION;ENCODING=QUOTED-PRINTABLE:LFF LATVIJAS JAUNATNES ČEMPIONĀTS FUTBOLĀ 11x11 - 2004.dz.g. (U-13) Vieta- Upesciems, Laiks- 11:00 Spēle pret Ogre NSS
END:VEVENT
END:VCALENDAR