BEGIN:VCALENDAR
VERSION:2.0
METHOD:PUBLISH
PRODID:-//Accessible Web Design//My Calendar//http://www.mywpcal.com//v2.2.13//EN';
BEGIN:VEVENT
UID:519-475
LOCATION:     
SUMMARY:LFF LATVIJAS JAUNATNES ČEMPIONĀTS FUTBOLĀ - 2009.dz.g. (U-8) Vieta- Ogre, Laiks- 10:00
DTSTAMP:20170917T000000
ORGANIZER;CN=web admin:MAILTO:edgarsklibus@inbox.lv
DTSTART:20170917T000000
DTEND:20170917T000000
CATEGORIES:Spēles(LJFC)
URL;VALUE=URI:
DESCRIPTION;ENCODING=QUOTED-PRINTABLE:LFF LATVIJAS JAUNATNES ČEMPIONĀTS FUTBOLĀ - 2009.dz.g. (U-8) Vieta- Ogre, Laiks- 10:00
END:VEVENT
END:VCALENDAR