BEGIN:VCALENDAR
VERSION:2.0
METHOD:PUBLISH
PRODID:-//Accessible Web Design//My Calendar//http://www.mywpcal.com//v2.2.13//EN';
BEGIN:VEVENT
UID:521-439
LOCATION:     
SUMMARY:Daugavpilī 7.-9. aprīlī  "Daugavpils CUP 2017" (2007.g.) U-10
DTSTAMP:20170407T000000
ORGANIZER;CN=web admin:MAILTO:edgarsklibus@inbox.lv
DTSTART:20170407T000000
DTEND:20170409T000000
CATEGORIES:Turnīri
URL;VALUE=URI:
DESCRIPTION;ENCODING=QUOTED-PRINTABLE:Daugavpilī 7.-9. aprīlī  "Daugavpils CUP 2017" (2007.g.) U-10
END:VEVENT
END:VCALENDAR