BEGIN:VCALENDAR
VERSION:2.0
METHOD:PUBLISH
PRODID:-//Accessible Web Design//My Calendar//http://www.mywpcal.com//v2.2.13//EN';
BEGIN:VEVENT
UID:527-478
LOCATION:     
SUMMARY:LFF LATVIJAS JAUNATNES ČEMPIONĀTS FUTBOLĀ - 2007.dz.g. B grupa (U-10) Vieta- Ostvalda vsk ., Laiks- 11.00  Spēle pret FK DAUGAVA
DTSTAMP:20170521T000000
ORGANIZER;CN=web admin:MAILTO:edgarsklibus@inbox.lv
DTSTART:20170521T000000
DTEND:20170521T000000
CATEGORIES:Spēles(LJFC)
URL;VALUE=URI:
DESCRIPTION;ENCODING=QUOTED-PRINTABLE:LFF LATVIJAS JAUNATNES ČEMPIONĀTS FUTBOLĀ - 2007.dz.g. B grupa (U-10) Vieta- Ostvalda vsk ., Laiks- 11.00  Spēle pret FK DAUGAVA
END:VEVENT
END:VCALENDAR