BEGIN:VCALENDAR
VERSION:2.0
METHOD:PUBLISH
PRODID:-//Accessible Web Design//My Calendar//http://www.mywpcal.com//v2.2.13//EN';
BEGIN:VEVENT
UID:543-492
LOCATION:     
SUMMARY:LFF LATVIJAS JAUNATNES ČEMPIONĀTS FUTBOLĀ A,B FINĀLS - 2006.dz.g. (U-11) Vieta- Ogre vai Valmiera, Laiks- 10:30
DTSTAMP:20170809T103000
ORGANIZER;CN=web admin:MAILTO:edgarsklibus@inbox.lv
DTSTART:20170809T103000
DTEND:20170809T143000
CATEGORIES:Spēles(LJFC)
URL;VALUE=URI:
DESCRIPTION;ENCODING=QUOTED-PRINTABLE:LFF LATVIJAS JAUNATNES ČEMPIONĀTS FUTBOLĀ A,B FINĀLS - 2006.dz.g. (U-11) Vieta- Ogre vai Valmiera, Laiks- 10:30
END:VEVENT
END:VCALENDAR