BEGIN:VCALENDAR
VERSION:2.0
METHOD:PUBLISH
PRODID:-//Accessible Web Design//My Calendar//http://www.mywpcal.com//v2.2.13//EN';
BEGIN:VEVENT
UID:550-498
LOCATION:     
SUMMARY:Brazilian Football Campus 2017 Upesciems 24.07.-28.07.2017 9:00-15:00
DTSTAMP:20170724T000000
ORGANIZER;CN=web admin:MAILTO:edgarsklibus@inbox.lv
DTSTART:20170724T000000
DTEND:20170728T000000
CATEGORIES:Pasākumi
URL;VALUE=URI:
DESCRIPTION;ENCODING=QUOTED-PRINTABLE:Brazilian Football Campus 2017 Upesciems 24.07.-28.07.2017 9:00-15:00
END:VEVENT
END:VCALENDAR