BEGIN:VCALENDAR
VERSION:2.0
METHOD:PUBLISH
PRODID:-//Accessible Web Design//My Calendar//http://www.mywpcal.com//v2.2.13//EN';
BEGIN:VEVENT
UID:552-500
LOCATION:     
SUMMARY:Treniņi (treniņu vieta mainīsies....) 2018 1.07.-7.07.2018
DTSTAMP:20180701T000000
ORGANIZER;CN=web admin:MAILTO:edgarsklibus@inbox.lv
DTSTART:20180701T000000
DTEND:20180707T000000
CATEGORIES:Pasākumi
URL;VALUE=URI:
DESCRIPTION;ENCODING=QUOTED-PRINTABLE:Treniņi (treniņu vieta mainīsies....) 2018 1.07.-7.07.2018
END:VEVENT
END:VCALENDAR