BEGIN:VCALENDAR
VERSION:2.0
METHOD:PUBLISH
PRODID:-//Accessible Web Design//My Calendar//http://www.mywpcal.com//v2.2.13//EN';
BEGIN:VEVENT
UID:555-503
LOCATION:     
SUMMARY:LFF Vidzemes reģiona Jaunatnes čempionāts futbolā telpās 2006.dz.(U-12) Vieta - nav zināma. Sākums 9:30
DTSTAMP:20171126T093000
ORGANIZER;CN=web admin:MAILTO:edgarsklibus@inbox.lv
DTSTART:20171126T093000
DTEND:20171126T153000
CATEGORIES:Spēles(LJFC)
URL;VALUE=URI:
DESCRIPTION;ENCODING=QUOTED-PRINTABLE:
END:VEVENT
END:VCALENDAR