BEGIN:VCALENDAR
VERSION:2.0
METHOD:PUBLISH
PRODID:-//Accessible Web Design//My Calendar//http://www.mywpcal.com//v2.2.13//EN';
BEGIN:VEVENT
UID:558-506
LOCATION:     
SUMMARY:LFF Vidzemes reģiona Jaunatnes čempionāts futbolā telpās 2004.dz.(U-14) Vieta - Ogre. Sākums 9:30
DTSTAMP:20171216T093000
ORGANIZER;CN=web admin:MAILTO:edgarsklibus@inbox.lv
DTSTART:20171216T093000
DTEND:20171216T143000
CATEGORIES:Spēles(LJFC)
URL;VALUE=URI:
DESCRIPTION;ENCODING=QUOTED-PRINTABLE:LFF Vidzemes reģiona Jaunatnes čempionāts futbolā telpās 2004.dz.(U-14) Vieta - Ogre. Sākums 9:30
END:VEVENT
END:VCALENDAR