BEGIN:VCALENDAR
VERSION:2.0
METHOD:PUBLISH
PRODID:-//Accessible Web Design//My Calendar//http://www.mywpcal.com//v2.2.13//EN';
BEGIN:VEVENT
UID:559-507
LOCATION:     
SUMMARY:LFF Vidzemes reģiona Jaunatnes čempionāts futbolā telpās 2004.dz.(U-14) Vieta - Ogre. Sākums 9:30 .2.kārta
DTSTAMP:20180114T093000
ORGANIZER;CN=web admin:MAILTO:edgarsklibus@inbox.lv
DTSTART:20180114T093000
DTEND:20180114T143000
CATEGORIES:Spēles(LJFC)
URL;VALUE=URI:
DESCRIPTION;ENCODING=QUOTED-PRINTABLE:LFF Vidzemes reģiona Jaunatnes čempionāts futbolā telpās 2004.dz.(U-14) Vieta - Ogre. Sākums 9:30 .2.kārta
END:VEVENT
END:VCALENDAR