BEGIN:VCALENDAR
VERSION:2.0
METHOD:PUBLISH
PRODID:-//Accessible Web Design//My Calendar//http://www.mywpcal.com//v2.2.13//EN';
BEGIN:VEVENT
UID:560-508
LOCATION:     
SUMMARY:LFF Vidzemes reģiona Jaunatnes čempionāts futbolā telpās 2005.dz.(U-13) Vieta - nav zināma. Sākums 9:30 .2.kārta
DTSTAMP:20180121T093000
ORGANIZER;CN=web admin:MAILTO:edgarsklibus@inbox.lv
DTSTART:20180121T093000
DTEND:20180121T143000
CATEGORIES:Spēles(LJFC)
URL;VALUE=URI:
DESCRIPTION;ENCODING=QUOTED-PRINTABLE:LFF Vidzemes reģiona Jaunatnes čempionāts futbolā telpās 2005.dz.(U-13) Vieta - nav zināma. Sākums 9:30 .2.kārta
END:VEVENT
END:VCALENDAR