BEGIN:VCALENDAR
VERSION:2.0
METHOD:PUBLISH
PRODID:-//Accessible Web Design//My Calendar//http://www.mywpcal.com//v2.2.13//EN';
BEGIN:VEVENT
UID:564-512
LOCATION:     
SUMMARY:Salaspils kauss 2017, komandas piedalās- U-6(2011),U-7(2010), U-8 (2009)
DTSTAMP:20171210T000000
ORGANIZER;CN=web admin:MAILTO:edgarsklibus@inbox.lv
DTSTART:20171210T000000
DTEND:20171210T000000
CATEGORIES:Turnīri
URL;VALUE=URI:
DESCRIPTION;ENCODING=QUOTED-PRINTABLE:Salaspils kauss 2017, komandas piedalās- U-6(2011),U-7(2010), U-8 (2009)
END:VEVENT
END:VCALENDAR