BEGIN:VCALENDAR
VERSION:2.0
METHOD:PUBLISH
PRODID:-//Accessible Web Design//My Calendar//http://www.mywpcal.com//v2.2.13//EN';
BEGIN:VEVENT
UID:598-544
LOCATION:     
SUMMARY:LFF Rīgas reģiona Jaunatnes čempionāts futbolā 2007.dz. A un B grupa spēle(U-11) Vieta - Juglas vsk.. Sākums A 18:30; B 19:10 Spēle pret FK Dinamo 1; 2.
DTSTAMP:20180528T183000
ORGANIZER;CN=web admin:MAILTO:edgarsklibus@inbox.lv
DTSTART:20180528T183000
DTEND:20180528T203000
CATEGORIES:Spēles(LJFC)
URL;VALUE=URI:
DESCRIPTION;ENCODING=QUOTED-PRINTABLE:LFF Rīgas reģiona Jaunatnes čempionāts futbolā 2007.dz. A un B grupa spēle(U-11) Vieta - Juglas vsk.. Sākums A 18:30; B 19:10Spēle pret FK Dinamo 1; 2.
END:VEVENT
END:VCALENDAR