BEGIN:VCALENDAR
VERSION:2.0
METHOD:PUBLISH
PRODID:-//Accessible Web Design//My Calendar//http://www.mywpcal.com//v2.2.13//EN';
BEGIN:VEVENT
UID:601-547
LOCATION:     
SUMMARY:LFF Rīgas reģiona Jaunatnes čempionāts futbolā 2007.dz. A grupa spēle (U-11) Vieta - Juglas vsk.. Sākums A 20:00. Spēle pret Super Nova.
DTSTAMP:20180601T200000
ORGANIZER;CN=web admin:MAILTO:edgarsklibus@inbox.lv
DTSTART:20180601T200000
DTEND:20180601T210000
CATEGORIES:Spēles(LJFC)
URL;VALUE=URI:
DESCRIPTION;ENCODING=QUOTED-PRINTABLE:LFF Rīgas reģiona Jaunatnes čempionāts futbolā 2007.dz. A grupa spēle (U-11) Vieta - Juglas vsk.. Sākums A 20:00.Spēle pret Super Nova.
END:VEVENT
END:VCALENDAR