BEGIN:VCALENDAR
VERSION:2.0
METHOD:PUBLISH
PRODID:-//Accessible Web Design//My Calendar//http://www.mywpcal.com//v2.2.13//EN';
BEGIN:VEVENT
UID:602-548
LOCATION:     
SUMMARY:LFF Rīgas reģiona Jaunatnes čempionāts futbolā 2007.dz. B grupa spēle (U-11) Vieta - Ostvalda vsk. Sākums 10:00. Spēle pret FJK Daugava.
DTSTAMP:20180602T100000
ORGANIZER;CN=web admin:MAILTO:edgarsklibus@inbox.lv
DTSTART:20180602T100000
DTEND:20180602T110000
CATEGORIES:Spēles(LJFC)
URL;VALUE=URI:
DESCRIPTION;ENCODING=QUOTED-PRINTABLE:LFF Rīgas reģiona Jaunatnes čempionāts futbolā 2007.dz. B grupa spēle (U-11) Vieta - Ostvalda vsk. Sākums 10:00.Spēle pret FJK Daugava.
END:VEVENT
END:VCALENDAR