BEGIN:VCALENDAR
VERSION:2.0
METHOD:PUBLISH
PRODID:-//Accessible Web Design//My Calendar//http://www.mywpcal.com//v2.2.13//EN';
BEGIN:VEVENT
UID:617-563
LOCATION:     
SUMMARY:LFF Jaunatnes čempionāts futbolā 2005.dz. (U-13) Vieta - Upesciems. Sākums 11:30 Spēle pret SN Saulkrasti
DTSTAMP:20180714T113000
ORGANIZER;CN=web admin:MAILTO:edgarsklibus@inbox.lv
DTSTART:20180714T113000
DTEND:20180714T124500
CATEGORIES:Spēles(LJFC)
URL;VALUE=URI:
DESCRIPTION;ENCODING=QUOTED-PRINTABLE:LFF Jaunatnes čempionāts futbolā 2005.dz. (U-13) Vieta - Upesciems. Sākums 11:30 Spēle pret SN Saulkrasti
END:VEVENT
END:VCALENDAR