BEGIN:VCALENDAR
VERSION:2.0
METHOD:PUBLISH
PRODID:-//Accessible Web Design//My Calendar//http://www.mywpcal.com//v2.2.13//EN';
BEGIN:VEVENT
UID:620-566
LOCATION:     
SUMMARY:Brazilian football campus 2018
DTSTAMP:20180723T000000
ORGANIZER;CN=web admin:MAILTO:edgarsklibus@inbox.lv
DTSTART:20180723T000000
DTEND:20180727T000000
CATEGORIES:Pasākumi
URL;VALUE=URI:
DESCRIPTION;ENCODING=QUOTED-PRINTABLE:Brazilian football campus 2018
END:VEVENT
END:VCALENDAR