BEGIN:VCALENDAR
VERSION:2.0
METHOD:PUBLISH
PRODID:-//Accessible Web Design//My Calendar//http://www.mywpcal.com//v2.2.13//EN';
BEGIN:VEVENT
UID:641-525
LOCATION:     
SUMMARY:Dobrecova kauss 2018 ( Latvija, Liepāja) U-8 15.06.-17.06.2018 (6x6)
DTSTAMP:20180615T000000
ORGANIZER;CN=web admin:MAILTO:edgarsklibus@inbox.lv
DTSTART:20180615T000000
DTEND:20180617T000000
CATEGORIES:Turnīri
URL;VALUE=URI:
DESCRIPTION;ENCODING=QUOTED-PRINTABLE:Dobrecova kauss 2018 ( Latvija, Liepāja) U-8 15.06.-17.06.2018 (6x6)
END:VEVENT
END:VCALENDAR