BEGIN:VCALENDAR
VERSION:2.0
METHOD:PUBLISH
PRODID:-//Accessible Web Design//My Calendar//http://www.mywpcal.com//v2.2.13//EN';
BEGIN:VEVENT
UID:643-582
LOCATION:     
SUMMARY:LFF Rīgas reģiona Jaunatnes čempionāts futbolā 2007.dz. A grupa spēle (U-11) Vieta - Juglas vsk.. Sākums A 18:30. Spēle pret FK Dinamo 3.
DTSTAMP:20180611T183000
ORGANIZER;CN=web admin:MAILTO:edgarsklibus@inbox.lv
DTSTART:20180611T183000
DTEND:20180611T191500
CATEGORIES:Spēles(LJFC)
URL;VALUE=URI:
DESCRIPTION;ENCODING=QUOTED-PRINTABLE:LFF Rīgas reģiona Jaunatnes čempionāts futbolā 2007.dz. A grupa spēle (U-11) Vieta - Juglas vsk.. Sākums A 18:30. Spēle pret FK Dinamo 3.
END:VEVENT
END:VCALENDAR