BEGIN:VCALENDAR
VERSION:2.0
METHOD:PUBLISH
PRODID:-//Accessible Web Design//My Calendar//http://www.mywpcal.com//v2.2.13//EN';
BEGIN:VEVENT
UID:646-585
LOCATION:     
SUMMARY:Salaspils Ziemas kauss 2018 U7(2011), Vieta- Salaspils Sporta nams, Laiks sākums - 09.00-12.00
DTSTAMP:20181202T090000
ORGANIZER;CN=web admin:MAILTO:edgarsklibus@inbox.lv
DTSTART:20181202T090000
DTEND:20181202T120000
CATEGORIES:Turnīri
URL;VALUE=URI:
DESCRIPTION;ENCODING=QUOTED-PRINTABLE:Salaspils Ziemas kauss 2018 U7(2011), Vieta- Salaspils Sporta nams, Laiks sākums - 09.00-12.00
END:VEVENT
END:VCALENDAR