BEGIN:VCALENDAR
VERSION:2.0
METHOD:PUBLISH
PRODID:-//Accessible Web Design//My Calendar//http://www.mywpcal.com//v2.2.13//EN';
BEGIN:VEVENT
UID:662-601
LOCATION:     
SUMMARY:5.-7.04.2019 U-13 Tartu 11x11
DTSTAMP:20190405T000000
ORGANIZER;CN=web admin:MAILTO:edgarsklibus@inbox.lv
DTSTART:20190405T000000
DTEND:20190407T000000
CATEGORIES:Turnīri
URL;VALUE=URI:
DESCRIPTION;ENCODING=QUOTED-PRINTABLE:5.-7.04.2019 U-13 Tartu 11x11
END:VEVENT
END:VCALENDAR