BEGIN:VCALENDAR
VERSION:2.0
METHOD:PUBLISH
PRODID:-//Accessible Web Design//My Calendar//http://www.mywpcal.com//v2.2.13//EN';
BEGIN:VEVENT
UID:663-602
LOCATION:     
SUMMARY:LJFČ U-13 Cēsis, pret Vidzemes FC/Priekuļi Spēles sākums - 11:00. Jābūt 10:00
DTSTAMP:20190413T110000
ORGANIZER;CN=web admin:MAILTO:edgarsklibus@inbox.lv
DTSTART:20190413T110000
DTEND:20190413T121500
CATEGORIES:Spēles(LJFC)
URL;VALUE=URI:
DESCRIPTION;ENCODING=QUOTED-PRINTABLE:LJFČ U-13 Cēsis, pret Vidzemes FC/Priekuļi Spēles sākums - 11:00. Jābūt 10:00
END:VEVENT
END:VCALENDAR