BEGIN:VCALENDAR
VERSION:2.0
METHOD:PUBLISH
PRODID:-//Accessible Web Design//My Calendar//http://www.mywpcal.com//v2.2.13//EN';
BEGIN:VEVENT
UID:665-604
LOCATION:     
SUMMARY:LJFČ U-13 49.vsk Rīga, pret Riga FC/ Kengooros. Spēles sākums - 12:30. Jābūt 11:30
DTSTAMP:20190414T123000
ORGANIZER;CN=web admin:MAILTO:edgarsklibus@inbox.lv
DTSTART:20190414T123000
DTEND:20190414T134500
CATEGORIES:Spēles(LJFC)
URL;VALUE=URI:
DESCRIPTION;ENCODING=QUOTED-PRINTABLE:LJFČ U-13 49.vsk Rīga, pret Riga FC/ Kengooros. Spēles sākums - 12:30. Jābūt 11:30
END:VEVENT
END:VCALENDAR