BEGIN:VCALENDAR
VERSION:2.0
METHOD:PUBLISH
PRODID:-//Accessible Web Design//My Calendar//http://www.mywpcal.com//v2.2.13//EN';
BEGIN:VEVENT
UID:667-606
LOCATION:     
SUMMARY:Vidzemes zonas čempionāts 2019 U-12(2007.dz.g.) Vieta - nav zināma.
DTSTAMP:20190419T000000
ORGANIZER;CN=web admin:MAILTO:edgarsklibus@inbox.lv
DTSTART:20190419T000000
DTEND:20190419T000000
CATEGORIES:Spēles(LJFC)
URL;VALUE=URI:
DESCRIPTION;ENCODING=QUOTED-PRINTABLE:Vidzemes zonas čempionāts 2019 U-12(2007.dz.g.) Vieta - nav zināma.
END:VEVENT
END:VCALENDAR