BEGIN:VCALENDAR
VERSION:2.0
METHOD:PUBLISH
PRODID:-//Accessible Web Design//My Calendar//http://www.mywpcal.com//v2.2.13//EN';
BEGIN:VEVENT
UID:668-607
LOCATION:     
SUMMARY:LJFČ U-14 Jūrnieka stadionā, pret FK Jaunība. Spēles sākums - 13:00. Jābūt 12:00
DTSTAMP:20190420T130000
ORGANIZER;CN=web admin:MAILTO:edgarsklibus@inbox.lv
DTSTART:20190420T130000
DTEND:20190420T150000
CATEGORIES:Spēles(LJFC)
URL;VALUE=URI:
DESCRIPTION;ENCODING=QUOTED-PRINTABLE:LJFČ U-14 Jūrnieka stadionā, pret FK Jaunība. Spēles sākums - 13:00. Jābūt 12:00
END:VEVENT
END:VCALENDAR