BEGIN:VCALENDAR
VERSION:2.0
METHOD:PUBLISH
PRODID:-//Accessible Web Design//My Calendar//http://www.mywpcal.com//v2.2.13//EN';
BEGIN:VEVENT
UID:669-608
LOCATION:     
SUMMARY:Vidzemes zonas čempionāts 2019 U-11(2008.dz.g.) Vieta - nav zināma.
DTSTAMP:20190422T000000
ORGANIZER;CN=web admin:MAILTO:edgarsklibus@inbox.lv
DTSTART:20190422T000000
DTEND:20190422T000000
CATEGORIES:Spēles(LJFC)
URL;VALUE=URI:
DESCRIPTION;ENCODING=QUOTED-PRINTABLE:Vidzemes zonas čempionāts 2019 U-11(2008.dz.g.) Vieta - nav zināma.
END:VEVENT
END:VCALENDAR