BEGIN:VCALENDAR
VERSION:2.0
METHOD:PUBLISH
PRODID:-//Accessible Web Design//My Calendar//http://www.mywpcal.com//v2.2.13//EN';
BEGIN:VEVENT
UID:670-609
LOCATION:     
SUMMARY:Salapsils kauss 2019 U-9(2010.dz.g.) Salaspilī.
DTSTAMP:20190427T000000
ORGANIZER;CN=web admin:MAILTO:edgarsklibus@inbox.lv
DTSTART:20190427T000000
DTEND:20190427T000000
CATEGORIES:Turnīri
URL;VALUE=URI:
DESCRIPTION;ENCODING=QUOTED-PRINTABLE:Salapsils kauss 2019 U-9(2010.dz.g.) Salaspilī.
END:VEVENT
END:VCALENDAR