BEGIN:VCALENDAR
VERSION:2.0
METHOD:PUBLISH
PRODID:-//Accessible Web Design//My Calendar//http://www.mywpcal.com//v2.2.13//EN';
BEGIN:VEVENT
UID:675-614
LOCATION:     
SUMMARY:Vidzemes zonas čempionāts 2019 U-10(2009.dz.g.) Vieta -  Smiltenē,sporta kompleksā "Teperis"
DTSTAMP:20190519T090000
ORGANIZER;CN=web admin:MAILTO:edgarsklibus@inbox.lv
DTSTART:20190519T090000
DTEND:20190519T140000
CATEGORIES:Spēles(LJFC)
URL;VALUE=URI:
DESCRIPTION;ENCODING=QUOTED-PRINTABLE:Vidzemes zonas čempionāts 2019 U-10(2009.dz.g.) Vieta -  Smiltenē,sporta kompleksā "Teperis"
END:VEVENT
END:VCALENDAR