BEGIN:VCALENDAR
VERSION:2.0
METHOD:PUBLISH
PRODID:-//Accessible Web Design//My Calendar//http://www.mywpcal.com//v2.2.13//EN';
BEGIN:VEVENT
UID:678-617
LOCATION:     
SUMMARY:LJFČ U-14 Carnikava, pret LeevonĀdaži/Carnikava. Spēles sākums - 17:00. Jābūt 16:00
DTSTAMP:20190530T170000
ORGANIZER;CN=web admin:MAILTO:edgarsklibus@inbox.lv
DTSTART:20190530T170000
DTEND:20190530T183000
CATEGORIES:Spēles(LJFC)
URL;VALUE=URI:
DESCRIPTION;ENCODING=QUOTED-PRINTABLE:LJFČ U-14 Carnikava, pret LeevonĀdaži/Carnikava. Spēles sākums - 17:00. Jābūt 16:00
END:VEVENT
END:VCALENDAR